BEGIN:VCALENDAR
PRODID:NingEventWidget-v1
VERSION:2.0
METHOD:PUBLISH
BEGIN:VTIMEZONE
TZID:Europe/Paris
X-LIC-LOCATION:Europe/Paris
BEGIN:DAYLIGHT
TZOFFSETFROM:+0100
TZOFFSETTO:+0200
TZNAME:CEST
DTSTART:19700329T020000
RRULE:FREQ=YEARLY;BYMONTH=3;BYDAY=-1SU
END:DAYLIGHT
BEGIN:STANDARD
TZOFFSETFROM:+0200
TZOFFSETTO:+0100
TZNAME:CET
DTSTART:19701025T030000
RRULE:FREQ=YEARLY;BYMONTH=10;BYDAY=-1SU
END:STANDARD
END:VTIMEZONE
BEGIN:VEVENT
UID:2485226:Event:2130757
DTSTAMP:20260424T200734Z
SUMMARY:Réunion d'information Programme M.B.S.R : Réduction du stres
 s par la Pleine Conscience
DESCRIPTION:Réunion d'information pour le prochain Programme MBSR Ré
 duction du Stress par la Pleine Conscience.\nSoirée de présentation 
 gratuite et d'informations sur la Méditation Pleine Conscience et ce 
 programme en 8 semaines du 28 JANVIER AU 25 MARS (8 mercredi de 19h-21
 h30 et 1 samedi de 10h-17h)\nCe programme est une possibilité de dév
 elopper une nouvelle manière d'être en relation avec le stress et de
  pratiquer de manière intensive la méditation dans l'état d'esprit 
 de la Pleine Conscience.\nPour cette réunion :            
         INSCRIPTIONS OBLIGATOIRES Christiane Beaugé, enseignant
 e du programme MBSR / Sophrologue-Relaxologue 06 70 49 32 38 - 01 44 6
 1 74 59 - christianebeauge@gmail.com http://www.pleineconscience75.com
 \n\nPour plus d'information, aller sur https://epanews.fr/events/r-uni
 on-d-information-programme-m-b-s-r-r-duction-du-stress-par-3
DTSTART;TZID=Europe/Paris:20150108T190000
DTEND;TZID=Europe/Paris:20150108T210000
CATEGORIES:75
LOCATION:paris 75003
WEBSITE:http://www.pleineconscience75.com
URL:http://www.pleineconscience75.com
CONTACT:06 70 49 32 38 - 01 44 61 74 59
ORGANIZER;CN="Christiane Beaugé":https://epanews.fr/profile/Christian
 eBeauge
ATTACH;FMTTYPE="image/jpeg":http://storage.ning.com/topology/rest/1.0/
 file/get/1662981963?profile=original
ATTENDEE;ROLE=REQ-PARTICIPANT;PARTSTAT=ACCEPTED;RSVP=TRUE;CN="Christia
 ne Beaugé":https://epanews.fr/profile/ChristianeBeauge
END:VEVENT
END:VCALENDAR
