BEGIN:VCALENDAR
PRODID:NingEventWidget-v1
VERSION:2.0
METHOD:PUBLISH
BEGIN:VTIMEZONE
TZID:Europe/Paris
X-LIC-LOCATION:Europe/Paris
BEGIN:DAYLIGHT
TZOFFSETFROM:+0100
TZOFFSETTO:+0200
TZNAME:CEST
DTSTART:19700329T020000
RRULE:FREQ=YEARLY;BYMONTH=3;BYDAY=-1SU
END:DAYLIGHT
BEGIN:STANDARD
TZOFFSETFROM:+0200
TZOFFSETTO:+0100
TZNAME:CET
DTSTART:19701025T030000
RRULE:FREQ=YEARLY;BYMONTH=10;BYDAY=-1SU
END:STANDARD
END:VTIMEZONE
BEGIN:VEVENT
UID:2485226:Event:2900149
DTSTAMP:20260421T100810Z
SUMMARY:RÃ©union d'info : stage mÃ©ditation pleine conscience
DESCRIPTION:RÃ©union d'information et d'inscription pour leÂ prochainÂ
  cycle : OSER L'AUTO COMPASSION par la Pleine Conscience.\nSoirÃ©e de 
 prÃ©sentation gratuite et d'informations sur la MÃ©ditation Pleine Con
 science et ce cycle qui se dÃ©roulera en 5 ateliersÂ les mercredi 11 -
  18 - 25 AVRIL et Â 2 MAI Â de 19h - 20h30 + leÂ dimanche 22 AVRIL de 
 11h-13h30.\nCe cycle \"OSER L'AUTO COMPASSION\" est une possibilitÃ© d
 e dÃ©velopper une nouvelle maniÃ¨re d'Ãªtre dans la bienveillance avec
  soi et de pratiquer de maniÃ¨re intensive la mÃ©ditation Pleine Consc
 ience dans l'Ã©tat d'esprit du programme MBSR de Jon Kabat Zinn. Pas d
 e prÃ©requis. DÃ©butant acceptÃ©.\nPour cette rÃ©union et/ ou pour s'i
 nformer de ce cycle : Â  Â  Â  Â  Â  Â  Â  Â  Â \nINSCRIPTION OBLIGATO
 IRE par mail svp :Â espacebeauregard75@yahoo.fr\nChristiane BeaugÃ©, e
 nseignante du programme MBSR - Sophrologue-Relaxologue\nDÃ©tails sur l
 e site : www.pleineconscience75.com\n\nPour plus d'information, aller 
 sur https://epanews.fr/events/r-union-d-info-stage-m-ditation-pleine-c
 onscience-1
DTSTART;TZID=Europe/Paris:20180409T190000
DTEND;TZID=Europe/Paris:20180409T200000
CATEGORIES:75
LOCATION:Paris 75002
WEBSITE:http://www.pleineconscience75.com
URL:http://www.pleineconscience75.com
CONTACT:06 70 49 32 38 - 01 44 61 74 59
ORGANIZER;CN="Christiane BeaugÃ©":https://epanews.fr/profile/Christian
 eBeauge
ATTACH;FMTTYPE="image/jpeg":http://storage.ning.com/topology/rest/1.0/
 file/get/1663591980?profile=original
ATTENDEE;ROLE=REQ-PARTICIPANT;PARTSTAT=ACCEPTED;RSVP=TRUE;CN="Christia
 ne BeaugÃ©":https://epanews.fr/profile/ChristianeBeauge
END:VEVENT
END:VCALENDAR
