BEGIN:VCALENDAR
PRODID:NingEventWidget-v1
VERSION:2.0
METHOD:PUBLISH
BEGIN:VTIMEZONE
TZID:Europe/Paris
X-LIC-LOCATION:Europe/Paris
BEGIN:DAYLIGHT
TZOFFSETFROM:+0100
TZOFFSETTO:+0200
TZNAME:CEST
DTSTART:19700329T020000
RRULE:FREQ=YEARLY;BYMONTH=3;BYDAY=-1SU
END:DAYLIGHT
BEGIN:STANDARD
TZOFFSETFROM:+0200
TZOFFSETTO:+0100
TZNAME:CET
DTSTART:19701025T030000
RRULE:FREQ=YEARLY;BYMONTH=10;BYDAY=-1SU
END:STANDARD
END:VTIMEZONE
BEGIN:VEVENT
UID:2485226:Event:1398787
DTSTAMP:20260422T045311Z
SUMMARY:Retrouvez votre poids rêvé !
DESCRIPTION:Envie de : * réussir à atteindre réellement et pour lon
 gtemps (voire toujours ;) … ) la ligne que vous décidez d’avoir d
 ésormais ? * considérer le parcours pour y arriver comme une source 
 de satisfactions plutôt que de privations ?  Vous trouverez les outil
 s pour vous auto-coacher pour regagnez la ligne que VOUS voulez, avec 
 plaisir à notre prochain atelier RETROUVEZ VOTRE POIDS REVE !!!  2h d
 e convivialité et d'efficacité pour savoir vous fixer un objectif qu
 e vous aurez plaisir et gourmandise à atteindre :)\n\nProgramme déta
 illé, inscriptions et tarifs à :http://www.esprit-du-bien-etre.com/b
 ien-dans-votre-corps/\n\nPour plus d'information, aller sur https://ep
 anews.fr/events/qui-voulez-vous-vraiment-tre-1
DTSTART;TZID=Europe/Paris:20130611T203000
DTEND;TZID=Europe/Paris:20130611T223000
CATEGORIES:75
LOCATION:Paris 11e
WEBSITE:http://www.esprit-du-bien-etre.com/ateliers-developpement-pers
 onnel/estime-de-soi-confiance-en-soi/
URL:http://www.esprit-du-bien-etre.com/ateliers-developpement-personne
 l/estime-de-soi-confiance-en-soi/
CONTACT:06 09 451 454
ORGANIZER;CN="Nico Toublanc - Esprit Bien Etre":https://epanews.fr/pro
 file/NicoToublancEspritBienEtre
ATTACH;FMTTYPE="image/jpeg":http://storage.ning.com/topology/rest/1.0/
 file/get/1662854622?profile=original
ATTENDEE;ROLE=REQ-PARTICIPANT;PARTSTAT=ACCEPTED;RSVP=TRUE;CN="Nico Tou
 blanc - Esprit Bien Etre":https://epanews.fr/profile/NicoToublancEspri
 tBienEtre
END:VEVENT
END:VCALENDAR
