BEGIN:VCALENDAR
PRODID:NingEventWidget-v1
VERSION:2.0
METHOD:PUBLISH
BEGIN:VTIMEZONE
TZID:Europe/Paris
X-LIC-LOCATION:Europe/Paris
BEGIN:DAYLIGHT
TZOFFSETFROM:+0100
TZOFFSETTO:+0200
TZNAME:CEST
DTSTART:19700329T020000
RRULE:FREQ=YEARLY;BYMONTH=3;BYDAY=-1SU
END:DAYLIGHT
BEGIN:STANDARD
TZOFFSETFROM:+0200
TZOFFSETTO:+0100
TZNAME:CET
DTSTART:19701025T030000
RRULE:FREQ=YEARLY;BYMONTH=10;BYDAY=-1SU
END:STANDARD
END:VTIMEZONE
BEGIN:VEVENT
UID:2485226:Event:286695
DTSTAMP:20260422T041110Z
SUMMARY:Qu'est ce que l'énergie Reiki Shamballa et pourquoi s'initier
  ?
DESCRIPTION:http://shambalaur07.blogspot.com\nVenez découvrir !\nLe S
 hamballa est un système multidimensionnel de guérison accessible à 
 tous. Cette énergie d'amour est un accélérateur doux et puissant de
  notre évolution personnelle et un apport considérable pour transfor
 mer notre vie et être plus heureux au quotidien !\nEntrée Libre - Ou
 vert à tous.\nEn fin d'exposé : questions - réponses et démonstrat
 ion de soin express.\nCette conférence d'informations précéde le st
 age d'initiation au Reiki Shamballa des 9 et 10 juillet au centre Ciki
 tsa.\nConférence par Laurence Arpi-Foulon Maître Reki Shamballa dep
 uis 2005 - Praticienne (soins, nettoyage énergétique habitat, coachi
 ng chemin de vie... ) et Initiatrice.  \n\nPour plus d'information,
  aller sur https://epanews.fr/events/quest-ce-que-lenergie-reiki
DTSTART;TZID=Europe/Paris:20110610T203000
DTEND;TZID=Europe/Paris:20110610T223000
CATEGORIES:07
LOCATION:MONTELIMAR
WEBSITE:
URL:
CONTACT:Amandine : 06 19 65 53 36
ORGANIZER;CN="Laurence ARPI-FOULON":https://epanews.fr/profile/Laurenc
 eARPIFOULON
ATTACH;FMTTYPE="image/jpeg":http://storage.ning.com/topology/rest/1.0/
 file/get/1662415963?profile=original
ATTENDEE;ROLE=REQ-PARTICIPANT;PARTSTAT=ACCEPTED;RSVP=TRUE;CN="Laurence
  ARPI-FOULON":https://epanews.fr/profile/LaurenceARPIFOULON
END:VEVENT
END:VCALENDAR
