BEGIN:VCALENDAR
PRODID:NingEventWidget-v1
VERSION:2.0
METHOD:PUBLISH
BEGIN:VTIMEZONE
TZID:Europe/Paris
X-LIC-LOCATION:Europe/Paris
BEGIN:DAYLIGHT
TZOFFSETFROM:+0100
TZOFFSETTO:+0200
TZNAME:CEST
DTSTART:19700329T020000
RRULE:FREQ=YEARLY;BYMONTH=3;BYDAY=-1SU
END:DAYLIGHT
BEGIN:STANDARD
TZOFFSETFROM:+0200
TZOFFSETTO:+0100
TZNAME:CET
DTSTART:19701025T030000
RRULE:FREQ=YEARLY;BYMONTH=10;BYDAY=-1SU
END:STANDARD
END:VTIMEZONE
BEGIN:VEVENT
UID:2485226:Event:2052587
DTSTAMP:20260426T013341Z
SUMMARY:Quelle sexualité en 2014 ?
DESCRIPTION:Une conférence sans tabou\n \nSexualité 2014Où en somm
 es nous ?\n \n \nA ce jour, notre société va vite, toutes les conn
 aissances sont accessibles, nous pouvons aller partout, parler de tout
  ! Mais pour la sexualité... est-ce aussi simple ?Pensez-vous que les
  hommes et les femmes sont égaux au plaisir ?Connaissez-vous vraiment
  votre corps ?Acceptez-vous pleinement la sexualité ?Avec la bonne hu
 meur et la sérieuse expérience qui la caractérise, Claudie MORIZOT,
  coach en sensualité que nous recevons pour la seconde fois avec plai
 sir, répond à ces questions et à bien d'autres via une conférence-
 débat riche et détendue.Nous commencerons par un  historique de la 
 sexualité de l'antiquité à nos jours...\n\n \n   toutes les info
 s ici  \n \nConférence publique ouverte à tous sans inscription |
  10 €\n\nPour plus d'information, aller sur https://epanews.fr/event
 s/quelle-sexualit-en-2014
DTSTART;TZID=Europe/Paris:20141028T194500
DTEND;TZID=Europe/Paris:20141028T223000
CATEGORIES:34
LOCATION:Montpellier - Centre Lacordaire
WEBSITE:http://www.happyplanete.org/evenement-416-sexualite-2014-ou-en
 -sommes-nous-.html
URL:http://www.happyplanete.org/evenement-416-sexualite-2014-ou-en-som
 mes-nous-.html
CONTACT:
ORGANIZER;CN="Franck Dagorn":https://epanews.fr/profile/FranckDagorn
ATTACH;FMTTYPE="image/jpeg":http://storage.ning.com/topology/rest/1.0/
 file/get/1663212799?profile=original
ATTENDEE;ROLE=REQ-PARTICIPANT;PARTSTAT=ACCEPTED;RSVP=TRUE;CN="Franck D
 agorn":https://epanews.fr/profile/FranckDagorn
END:VEVENT
END:VCALENDAR
