BEGIN:VCALENDAR
PRODID:NingEventWidget-v1
VERSION:2.0
METHOD:PUBLISH
BEGIN:VTIMEZONE
TZID:Europe/Paris
X-LIC-LOCATION:Europe/Paris
BEGIN:DAYLIGHT
TZOFFSETFROM:+0100
TZOFFSETTO:+0200
TZNAME:CEST
DTSTART:19700329T020000
RRULE:FREQ=YEARLY;BYMONTH=3;BYDAY=-1SU
END:DAYLIGHT
BEGIN:STANDARD
TZOFFSETFROM:+0200
TZOFFSETTO:+0100
TZNAME:CET
DTSTART:19701025T030000
RRULE:FREQ=YEARLY;BYMONTH=10;BYDAY=-1SU
END:STANDARD
END:VTIMEZONE
BEGIN:VEVENT
UID:2485226:Event:2870091
DTSTAMP:20260422T082958Z
SUMMARY:quand les mots sont absents, les maux s'expriment!
DESCRIPTION:Conférence \"Quand les Mots sont Absents, Les Maux s'expr
 iment !\" par l'Institut MaitreyaLe vendredi 22 septembre 2017 à 18h3
 0\nQuel est le point commun entre un Mal de Gorge et un Cancer?Ou quan
 d le Corps prend la parole !Comprendre les messages \"des Maux\" et ..
 .Apprendre à les utiliser pour Allez Mieux !\nParticipation7€ non a
 dhérent5€ adhérentPlaces limitées\nRéservationsAdeline 06.17.14.
 41.68\nLieu : L'arc en ciel du partage1 rue garancière 11100 narbonne
 www.larcencieldupartage.org\n\nPour plus d'information, aller sur http
 s://epanews.fr/events/quand-les-mots-sont-absents-les-maux-s-expriment
DTSTART;TZID=Europe/Paris:20170922T183000
DTEND;TZID=Europe/Paris:20170922T200000
CATEGORIES:11
LOCATION:narbonne
WEBSITE:http://www.larcencieldupartage.org
URL:http://www.larcencieldupartage.org
CONTACT:0617144168
ORGANIZER;CN="L'arc en ciel du partage":https://epanews.fr/profile/Lar
 cencieldupartage
ATTACH;FMTTYPE="image/jpeg":http://storage.ning.com/topology/rest/1.0/
 file/get/1663688869?profile=original
ATTENDEE;ROLE=REQ-PARTICIPANT;PARTSTAT=ACCEPTED;RSVP=TRUE;CN="L'arc en
  ciel du partage":https://epanews.fr/profile/Larcencieldupartage
END:VEVENT
END:VCALENDAR
