BEGIN:VCALENDAR
PRODID:NingEventWidget-v1
VERSION:2.0
METHOD:PUBLISH
BEGIN:VTIMEZONE
TZID:Europe/Paris
X-LIC-LOCATION:Europe/Paris
BEGIN:DAYLIGHT
TZOFFSETFROM:+0100
TZOFFSETTO:+0200
TZNAME:CEST
DTSTART:19700329T020000
RRULE:FREQ=YEARLY;BYMONTH=3;BYDAY=-1SU
END:DAYLIGHT
BEGIN:STANDARD
TZOFFSETFROM:+0200
TZOFFSETTO:+0100
TZNAME:CET
DTSTART:19701025T030000
RRULE:FREQ=YEARLY;BYMONTH=10;BYDAY=-1SU
END:STANDARD
END:VTIMEZONE
BEGIN:VEVENT
UID:2485226:Event:24180
DTSTAMP:20260422T162354Z
SUMMARY:Quand la danse libre et les arts plastiques s'en mêlent
DESCRIPTION:danse • dessin • peinture • modelage • mandala •
  land art\nAu cœur de l'arbre propose son atelier mensuel de danse li
 bre et arts plastiques mêlés.\nLiberté de notre danse retrouvée, s
 pontanéité du geste dessiné, jeu des couleurs, matières et formes.
  Le mouvement de vie nous anime, joie de la rencontre avec soi-même e
 t les autres.\nLes ateliers sont ouverts et accessibles à tous, quels
  que soient l'âge et l'expérience. Venir avec une tenue confortable.
 \nLe tarif est de 25€.\n\nLe lieu se trouve en Drôme provençale, l
 imite Vaucluse, pas loin de l'Ardèche et du Gard.\n\nAnimé par Régi
 ne, artiste plasticienne, diplômée de l'école Boulle, formée en da
 nse thérapie - Parcours initiatique amérindien - Pratique de l'aïki
 do\n\nAu plaisir de vous rencontrer !\n\nPour plus d'information, alle
 r sur https://epanews.fr/events/quand-la-danse-libre-et-les
DTSTART;TZID=Europe/Paris:20091212T140000
DTEND;TZID=Europe/Paris:20091212T180000
CATEGORIES:26
LOCATION:Atelier
WEBSITE:http://zairaile.free.fr/ateliers/accueil.html
URL:http://zairaile.free.fr/ateliers/accueil.html
CONTACT:06 74 99 53 33
ORGANIZER:Régine Lucas
ATTACH;FMTTYPE="image/jpeg":http://storage.ning.com/topology/rest/1.0/
 file/get/1662280825?profile=original
ATTENDEE;ROLE=REQ-PARTICIPANT;PARTSTAT=ACCEPTED;RSVP=TRUE;CN="regine l
 ucas":https://epanews.fr/profile/reginelucas
END:VEVENT
END:VCALENDAR
