BEGIN:VCALENDAR
PRODID:NingEventWidget-v1
VERSION:2.0
METHOD:PUBLISH
BEGIN:VTIMEZONE
TZID:Europe/Paris
X-LIC-LOCATION:Europe/Paris
BEGIN:DAYLIGHT
TZOFFSETFROM:+0100
TZOFFSETTO:+0200
TZNAME:CEST
DTSTART:19700329T020000
RRULE:FREQ=YEARLY;BYMONTH=3;BYDAY=-1SU
END:DAYLIGHT
BEGIN:STANDARD
TZOFFSETFROM:+0200
TZOFFSETTO:+0100
TZNAME:CET
DTSTART:19701025T030000
RRULE:FREQ=YEARLY;BYMONTH=10;BYDAY=-1SU
END:STANDARD
END:VTIMEZONE
BEGIN:VEVENT
UID:2485226:Event:2828805
DTSTAMP:20260420T171845Z
SUMMARY:Quand Eros ravit nos sens, Biodanza, Corfou en Grèce
DESCRIPTION:Quand Eros ravit nos sens, Biodanza, en Grèce à Corfou. 
 Le mythe d’Eros et psyché raconte tout l’enjeu de l’intégratio
 n de la force de vie avec la psyché humaine.\nDu 18 au 20 juin 2017\n
 Prix: 140€ / 150 CHF  \nPour plus d'information appelez au : +41 78
  686 12 96 ou écrivez à ariane@biodanza.ch, Ariane Péclard-Sahli.\n
 \nPour plus d'information, aller sur https://epanews.fr/events/quand-e
 ros-ravit-nos-sens-biodanza-corfou-en-gr-ce
DTSTART;TZID=Europe/Paris:20170618T000000
DTEND;TZID=Europe/Paris:20170620T235900
CATEGORIES:grece
LOCATION:Pour plus d'information appelez au : +41 78 686 12 96 ou écr
 ivez à ariane@biodanza.ch, Ariane Péclard-Sahli.
WEBSITE:http://www.ariane-yoga-biodanza.ch/fr
URL:http://www.ariane-yoga-biodanza.ch/fr
CONTACT:+41 78 686 12 96
ORGANIZER:
ATTACH;FMTTYPE="image/jpeg":http://storage.ning.com/topology/rest/1.0/
 file/get/1663665294?profile=original
ATTENDEE;ROLE=REQ-PARTICIPANT;PARTSTAT=ACCEPTED;RSVP=TRUE;CN="Ariane P
 éclard-Sahli":https://epanews.fr/profile/ArianePeclardSahli
END:VEVENT
END:VCALENDAR
