BEGIN:VCALENDAR
PRODID:NingEventWidget-v1
VERSION:2.0
METHOD:PUBLISH
BEGIN:VTIMEZONE
TZID:Europe/Paris
X-LIC-LOCATION:Europe/Paris
BEGIN:DAYLIGHT
TZOFFSETFROM:+0100
TZOFFSETTO:+0200
TZNAME:CEST
DTSTART:19700329T020000
RRULE:FREQ=YEARLY;BYMONTH=3;BYDAY=-1SU
END:DAYLIGHT
BEGIN:STANDARD
TZOFFSETFROM:+0200
TZOFFSETTO:+0100
TZNAME:CET
DTSTART:19701025T030000
RRULE:FREQ=YEARLY;BYMONTH=10;BYDAY=-1SU
END:STANDARD
END:VTIMEZONE
BEGIN:VEVENT
UID:2485226:Event:1730628
DTSTAMP:20260421T100503Z
SUMMARY:Quête de Visions 2015
DESCRIPTION: \n\nQuête de visions 2015pdf\n Guidée par Cédric Dela
 veau   Du 24 au 31 juillet 2015  *Qu’est-ce qu’une quête de visi
 ons ?  La cérémonie de la quête de visions est un ancien rituel de 
 transition, de passage, qui était, et est encore à ce jour utilisé 
 par de nombreuses tribus de par le monde, afin d’expérimenter le fa
 it de passer d’un monde à un à autre, d’un état de vie ordinair
 e à un état de vie sacré, également lors du passage de l’adolesc
 ence à l’âge adulte, ainsi que pour trouver des réponses et des d
 irections personnelles et afin de clarifier des situations et des inte
 ntions. Ce rituel est guidé par Cédric Delaveau dans sa dimension la
  plus sacrée et la plus authentique. Dimension Humainement Divine, qu
 i accepte la nudité et la fragilité d’être Humain, avec force, co
 urage et dignité dans le but le plus humble de la divinisation de sa 
 propre vie terrestre, émotionnelle, mentale et spirituelle, connexion
  intègre à la pure luminosité de notre Âme. Pour enfin, vivre d’
 une manière libre et authentique en lien avec la nature, les élémen
 ts, les esprits de la nature et toutes les nations de Mère Terre et d
 e la Création elle-même, tout en restant les deux pieds bien ancrés
 , la couronne dans les étoiles.   *Au sujet de Cedric Delaveau  Cedri
 c Delaveau guide des cérémonies chamaniques depuis plus de 10 ans. A
 ncien danseur du Soleil, nommée danse de Prière auxquelles il partic
 ipa durant 5 années, il vécut sa première quête de visions à 25 a
 ns.\n*Quel est le déroulement de la quête de visions ?  La quête de
  visions comprend trois phases, la préparation, la quête elle-même 
 et le retour de quête.\n*Inscriptions : jusqu'au 1er juin   *Inform
 ations complémentaires par e-mail : cedric.dlv@gmail.com\n\n\n\n\n\nP
 our plus d'information, aller sur https://epanews.fr/events/qu-te-de-v
 isions-2014
DTSTART;TZID=Europe/Paris:20150724T090000
DTEND;TZID=Europe/Paris:20150731T190000
CATEGORIES:56
LOCATION:56
WEBSITE:http://www.cedricdelaveau.com
URL:http://www.cedricdelaveau.com
CONTACT:06.18.18.90.86
ORGANIZER;CN=Cedric:https://epanews.fr/profile/Cedric182
ATTACH;FMTTYPE="image/jpeg":http://storage.ning.com/topology/rest/1.0/
 file/get/1663328824?profile=original
ATTENDEE;ROLE=REQ-PARTICIPANT;PARTSTAT=ACCEPTED;RSVP=TRUE;CN=Cedric:ht
 tps://epanews.fr/profile/Cedric182
END:VEVENT
END:VCALENDAR
