BEGIN:VCALENDAR
PRODID:NingEventWidget-v1
VERSION:2.0
METHOD:PUBLISH
BEGIN:VTIMEZONE
TZID:Europe/Paris
X-LIC-LOCATION:Europe/Paris
BEGIN:DAYLIGHT
TZOFFSETFROM:+0100
TZOFFSETTO:+0200
TZNAME:CEST
DTSTART:19700329T020000
RRULE:FREQ=YEARLY;BYMONTH=3;BYDAY=-1SU
END:DAYLIGHT
BEGIN:STANDARD
TZOFFSETFROM:+0200
TZOFFSETTO:+0100
TZNAME:CET
DTSTART:19701025T030000
RRULE:FREQ=YEARLY;BYMONTH=10;BYDAY=-1SU
END:STANDARD
END:VTIMEZONE
BEGIN:VEVENT
UID:2485226:Event:1759822
DTSTAMP:20260421T034239Z
SUMMARY:qu'est-ce que le bonheur ?
DESCRIPTION:Vendredi 7 février 2014\nVenez partager un atelier autour
  du thème  \"qu'est-ce que le bonheur ?\" animé par David Riblet.  
 de 19h à 22h.           - Un temps pour se connecter à soi, 
  - un temps pour échanger sur le bonheur,  - un temps de réponses 
 à vos questions.                           At
 elier 3 €  Pour participer, il vous suffit de vous inscrire sur ce l
 ien (nombre limité 20 places) :\n http://www.framadate.org/studs.php?
 sondage=64f7kxumbyhxgypz\n\nPour plus d'information, aller sur https:/
 /epanews.fr/events/qu-est-ce-que-le-bonheur
DTSTART;TZID=Europe/Paris:20140207T000000
DTEND;TZID=Europe/Paris:20140207T235900
CATEGORIES:34
LOCATION:Début 19h à 22h
WEBSITE:
URL:
CONTACT:06 81 91 77 07
ORGANIZER;CN=Léticia:https://epanews.fr/profile/Leticia
ATTACH;FMTTYPE="image/jpeg":
ATTENDEE;ROLE=REQ-PARTICIPANT;PARTSTAT=ACCEPTED;RSVP=TRUE;CN=Léticia:
 https://epanews.fr/profile/Leticia
END:VEVENT
END:VCALENDAR
