BEGIN:VCALENDAR
PRODID:NingEventWidget-v1
VERSION:2.0
METHOD:PUBLISH
BEGIN:VTIMEZONE
TZID:Europe/Paris
X-LIC-LOCATION:Europe/Paris
BEGIN:DAYLIGHT
TZOFFSETFROM:+0100
TZOFFSETTO:+0200
TZNAME:CEST
DTSTART:19700329T020000
RRULE:FREQ=YEARLY;BYMONTH=3;BYDAY=-1SU
END:DAYLIGHT
BEGIN:STANDARD
TZOFFSETFROM:+0200
TZOFFSETTO:+0100
TZNAME:CET
DTSTART:19701025T030000
RRULE:FREQ=YEARLY;BYMONTH=10;BYDAY=-1SU
END:STANDARD
END:VTIMEZONE
BEGIN:VEVENT
UID:2485226:Event:842360
DTSTAMP:20260422T015749Z
SUMMARY:Qi Gong et massages
DESCRIPTION:Une semaine pour soi , au domaine du taillÃ© enÂ ArdÃ¨cheÂ
  !\nPour relacher son corps et ouvrir son coeur !Toutes les infos sur 
 :Â http://atelierdesoi.webnode.com/stages/\n\n\nPour plus d'informatio
 n, aller sur https://epanews.fr/events/qi-gong-et-massages
DTSTART;TZID=Europe/Paris:20120729T190000
DTEND;TZID=Europe/Paris:20120803T170000
CATEGORIES:07
LOCATION:domaine du taillÃ© 07200 Vesseaux (ArdÃ¨che)
WEBSITE:
URL:
CONTACT:
ORGANIZER;CN="PRATESI JEAN MICHEL":https://epanews.fr/profile/PRATESIJ
 EANMICHEL
ATTACH;FMTTYPE="image/jpeg":http://storage.ning.com/topology/rest/1.0/
 file/get/1662617310?profile=original
ATTENDEE;ROLE=REQ-PARTICIPANT;PARTSTAT=ACCEPTED;RSVP=TRUE;CN="PRATESI 
 JEAN MICHEL":https://epanews.fr/profile/PRATESIJEANMICHEL
ATTENDEE;ROLE=REQ-PARTICIPANT;PARTSTAT=TENTATIVE;RSVP=TRUE;CN=solea:ht
 tps://epanews.fr/profile/solea
END:VEVENT
END:VCALENDAR
