BEGIN:VCALENDAR
PRODID:NingEventWidget-v1
VERSION:2.0
METHOD:PUBLISH
BEGIN:VTIMEZONE
TZID:Europe/Paris
X-LIC-LOCATION:Europe/Paris
BEGIN:DAYLIGHT
TZOFFSETFROM:+0100
TZOFFSETTO:+0200
TZNAME:CEST
DTSTART:19700329T020000
RRULE:FREQ=YEARLY;BYMONTH=3;BYDAY=-1SU
END:DAYLIGHT
BEGIN:STANDARD
TZOFFSETFROM:+0200
TZOFFSETTO:+0100
TZNAME:CET
DTSTART:19701025T030000
RRULE:FREQ=YEARLY;BYMONTH=10;BYDAY=-1SU
END:STANDARD
END:VTIMEZONE
BEGIN:VEVENT
UID:2485226:Event:2875027
DTSTAMP:20260422T012423Z
SUMMARY:Puissantes techniques de dĂ©parasitage des corps subtils
DESCRIPTION:Stage animĂ© par Marie Line (Clairaudiente et passeuse d'Ă
 ˘me)\n\n\n\nâ€‹Renseignements & InscriptionÂ Â auprĂ¨s de Marie-LineÂ 
 : 06 07 87 61 64 ouÂ gbdevelopinvest@gmail.com\nâ€‹Participation :Â 10
 0â‚¬ la journĂ©e\n\n\n\n\n\nPour plus d'information, aller sur https:/
 /epanews.fr/events/puissantes-techniques-de-d-parasitage-des-corps-sub
 tils
DTSTART;TZID=Europe/Paris:20170924T090000
DTEND;TZID=Europe/Paris:20170924T180000
CATEGORIES:06
LOCATION:Espace Aloha
WEBSITE:http://www.espacealoha.net
URL:http://www.espacealoha.net
CONTACT:06 25 29 51 87
ORGANIZER;CN="Espace Aloha":https://epanews.fr/profile/EspaceAloha
ATTACH;FMTTYPE="image/jpeg":
ATTENDEE;ROLE=REQ-PARTICIPANT;PARTSTAT=ACCEPTED;RSVP=TRUE;CN="Espace A
 loha":https://epanews.fr/profile/EspaceAloha
END:VEVENT
END:VCALENDAR
