BEGIN:VCALENDAR
PRODID:NingEventWidget-v1
VERSION:2.0
METHOD:PUBLISH
BEGIN:VTIMEZONE
TZID:Europe/Paris
X-LIC-LOCATION:Europe/Paris
BEGIN:DAYLIGHT
TZOFFSETFROM:+0100
TZOFFSETTO:+0200
TZNAME:CEST
DTSTART:19700329T020000
RRULE:FREQ=YEARLY;BYMONTH=3;BYDAY=-1SU
END:DAYLIGHT
BEGIN:STANDARD
TZOFFSETFROM:+0200
TZOFFSETTO:+0100
TZNAME:CET
DTSTART:19701025T030000
RRULE:FREQ=YEARLY;BYMONTH=10;BYDAY=-1SU
END:STANDARD
END:VTIMEZONE
BEGIN:VEVENT
UID:2485226:Event:1015331
DTSTAMP:20260420T034706Z
SUMMARY:Modification demandée
DESCRIPTION:Approche de la Psychologie spirituelle dite aussi initiati
 que telle qu’elle est présentée dans l’Enseignement d’Alice An
 ne Bailey. Avec le support du dernier livre de Thierry ‘Stimuler not
 re Etre Intuitif’ de l’aspiration à la maîtrise, l’évolution 
 spirituelle, les degrés d’éveil\n\nPour plus d'information, aller 
 sur https://epanews.fr/events/psychologie-transpersonnelle-1
DTSTART;TZID=Europe/Paris:20121111T093000
DTEND;TZID=Europe/Paris:20121111T123000
CATEGORIES:66200
LOCATION:Chapelle Sant Jordi (côté parking) Elne
WEBSITE:http://martinedevy@live.fr
URL:http://martinedevy@live.fr
CONTACT:
ORGANIZER;CN="Trin'Ame":https://epanews.fr/profile/TrinAme
ATTACH;FMTTYPE="image/jpeg":
ATTENDEE;ROLE=REQ-PARTICIPANT;PARTSTAT=ACCEPTED;RSVP=TRUE;CN="Trin'Ame
 ":https://epanews.fr/profile/TrinAme
END:VEVENT
END:VCALENDAR
