BEGIN:VCALENDAR
PRODID:NingEventWidget-v1
VERSION:2.0
METHOD:PUBLISH
BEGIN:VTIMEZONE
TZID:Europe/Paris
X-LIC-LOCATION:Europe/Paris
BEGIN:DAYLIGHT
TZOFFSETFROM:+0100
TZOFFSETTO:+0200
TZNAME:CEST
DTSTART:19700329T020000
RRULE:FREQ=YEARLY;BYMONTH=3;BYDAY=-1SU
END:DAYLIGHT
BEGIN:STANDARD
TZOFFSETFROM:+0200
TZOFFSETTO:+0100
TZNAME:CET
DTSTART:19701025T030000
RRULE:FREQ=YEARLY;BYMONTH=10;BYDAY=-1SU
END:STANDARD
END:VTIMEZONE
BEGIN:VEVENT
UID:2485226:Event:2221086
DTSTAMP:20260422T065841Z
SUMMARY:Promenade pédestre au plateau du Latay
DESCRIPTION:l'association Apéria vous propose une Promenade pédestr
 e au plateau du Latay, au dessus de Signes, dans le versant sud de la 
 chaîne de la Ste Baume.\nNous longeons un cour d’eau canalisée pen
 dant 2 heures pour arriver à une cascade.\nLa marche est longue sans 
 difficulté majeure.\nPique nique partagé dans un pré.\nLes chaussur
 es de marche sont recommandées.\nparticipation aux frais 1€ pour le
 s adhérents\n3€ pour les non adhérents\nla cotisation est de 20€
  à l'année\nréservez par tel 06 60 46 30 92 ou par mail\nprogramme 
 des activités de l'association Apéria promenades pédestres, vélo, 
 week end dans la nature, séjours, témoignages débats, causeries, co
 nférences etc...\nassociationaperia@gmail.com\n \n\n\nPour plus d'in
 formation, aller sur https://epanews.fr/events/promenade-p-destre-au-p
 lateau-du-latay
DTSTART;TZID=Europe/Paris:20150412T100000
DTEND;TZID=Europe/Paris:20150412T160000
CATEGORIES:13
LOCATION:carriere de Chibron
WEBSITE:
URL:
CONTACT:0660463092
ORGANIZER;CN=danielstcyrsurmer:https://epanews.fr/profile/danielstcyrs
 urmer
ATTACH;FMTTYPE="image/jpeg":http://storage.ning.com/topology/rest/1.0/
 file/get/1663356451?profile=original
ATTENDEE;ROLE=REQ-PARTICIPANT;PARTSTAT=ACCEPTED;RSVP=TRUE;CN=danielstc
 yrsurmer:https://epanews.fr/profile/danielstcyrsurmer
ATTENDEE;ROLE=REQ-PARTICIPANT;PARTSTAT=TENTATIVE;RSVP=TRUE;CN=obelia:h
 ttps://epanews.fr/profile/cledes
END:VEVENT
END:VCALENDAR
