BEGIN:VCALENDAR
PRODID:NingEventWidget-v1
VERSION:2.0
METHOD:PUBLISH
BEGIN:VTIMEZONE
TZID:Europe/Paris
X-LIC-LOCATION:Europe/Paris
BEGIN:DAYLIGHT
TZOFFSETFROM:+0100
TZOFFSETTO:+0200
TZNAME:CEST
DTSTART:19700329T020000
RRULE:FREQ=YEARLY;BYMONTH=3;BYDAY=-1SU
END:DAYLIGHT
BEGIN:STANDARD
TZOFFSETFROM:+0200
TZOFFSETTO:+0100
TZNAME:CET
DTSTART:19701025T030000
RRULE:FREQ=YEARLY;BYMONTH=10;BYDAY=-1SU
END:STANDARD
END:VTIMEZONE
BEGIN:VEVENT
UID:2485226:Event:62073
DTSTAMP:20260419T152736Z
SUMMARY:Projection du film \"Être femme aujourd'hui...\" une confére
 nce de Jacques Salomé
DESCRIPTION:Projection sur Paris du film\n\n« Etre femme aujourd’hu
 i… »\n\nune conférence du psychosociologue Jacques Salomé\n\nVend
 redi 21 mai à 19h30\nen présence du réalisateur Damien Geffroy\n\n\
 n\nPour regarder la bande annonce\n\nhttp://www.editions-en-conscience
 .com/\n\n« Jacques Salomé nous propose dans cette conférence des cl
 efs afin qu’aujourd’hui chaque femme puisse mieux se définir et v
 ivre en pleine conscience toutes les dimensions de son être. »\n\nDa
 ns ce film Jacques Salomé explore entre autres les sujets suivants :\
 n- Naître fille et devenir femme\n- Comment accéder à sa place de f
 emme ?\n- Les cinq grands rôles de la femme\n- Le « nourrissement »
  de la relation homme femme\n- Ces relations qui se vivent à trois\n-
  Avoir le courage de se définir et de se positionner dans la relation
 \n- Le biberon relationnel\n- Comment faire face à la violence ?\n- C
 es enfants du désir hyper comblés\n- Ces femmes qui se sacrifient po
 ur les autres\n...\n\n\nParticipation : 5 euros\n\nPlaces limitées do
 nc prévenir de sa présence par email à : contact@ed-conscience.com\
 nLe code porte vous sera donné lors de la réservation par email.\n\n
 Pour plus d'information, aller sur https://epanews.fr/events/projectio
 n-du-film-etre-femme-1
DTSTART;TZID=Europe/Paris:20100521T193000
DTEND;TZID=Europe/Paris:20100521T220000
CATEGORIES:75
LOCATION:Atelier Collandre - Métro Belleville
WEBSITE:http://www.editions-en-conscience.com
URL:http://www.editions-en-conscience.com
CONTACT:06 60 95 55 40
ORGANIZER;CN="Damien Geffroy":https://epanews.fr/profile/DamienGeffroy
ATTACH;FMTTYPE="image/jpeg":http://storage.ning.com/topology/rest/1.0/
 file/get/1662299885?profile=original
ATTENDEE;ROLE=REQ-PARTICIPANT;PARTSTAT=ACCEPTED;RSVP=TRUE;CN="Damien G
 effroy":https://epanews.fr/profile/DamienGeffroy
END:VEVENT
END:VCALENDAR
