BEGIN:VCALENDAR
PRODID:NingEventWidget-v1
VERSION:2.0
METHOD:PUBLISH
BEGIN:VTIMEZONE
TZID:Europe/Paris
X-LIC-LOCATION:Europe/Paris
BEGIN:DAYLIGHT
TZOFFSETFROM:+0100
TZOFFSETTO:+0200
TZNAME:CEST
DTSTART:19700329T020000
RRULE:FREQ=YEARLY;BYMONTH=3;BYDAY=-1SU
END:DAYLIGHT
BEGIN:STANDARD
TZOFFSETFROM:+0200
TZOFFSETTO:+0100
TZNAME:CET
DTSTART:19701025T030000
RRULE:FREQ=YEARLY;BYMONTH=10;BYDAY=-1SU
END:STANDARD
END:VTIMEZONE
BEGIN:VEVENT
UID:2485226:Event:2314159
DTSTAMP:20260421T172142Z
SUMMARY:Projection du film 'En quête de sens\"
DESCRIPTION:Bande Annonce du film :https://www.youtube.com/watch?list=
 PL-hI_i4fp-hs7jvQ1UqQgctGmjJEpgtD0&v=KFaGJ3nEoMc\nSoirée : Projection
  du Film \"En Quête de Sens\" suivie d'un échange\nTarif : 7€\n\n\
 nPour plus d'information, aller sur https://epanews.fr/events/projecti
 on-du-film-en-qu-te-de-sens
DTSTART;TZID=Europe/Paris:20150605T203000
DTEND;TZID=Europe/Paris:20150605T223000
CATEGORIES:04
LOCATION:Cinéma Le Lido
WEBSITE:http://enquetedesens-lefilm.com/
URL:http://enquetedesens-lefilm.com/
CONTACT:06 13 54 14 76
ORGANIZER;CN="Stéphanie BAGNIS":https://epanews.fr/profile/StephanieB
 AGNIS
ATTACH;FMTTYPE="image/jpeg":http://storage.ning.com/topology/rest/1.0/
 file/get/1663388640?profile=original
ATTENDEE;ROLE=REQ-PARTICIPANT;PARTSTAT=ACCEPTED;RSVP=TRUE;CN=Pertuisie
 nne:https://epanews.fr/profile/Pertuisienne
ATTENDEE;ROLE=REQ-PARTICIPANT;PARTSTAT=ACCEPTED;RSVP=TRUE;CN="Stéphan
 ie BAGNIS":https://epanews.fr/profile/StephanieBAGNIS
END:VEVENT
END:VCALENDAR
