BEGIN:VCALENDAR
PRODID:NingEventWidget-v1
VERSION:2.0
METHOD:PUBLISH
BEGIN:VTIMEZONE
TZID:Europe/Paris
X-LIC-LOCATION:Europe/Paris
BEGIN:DAYLIGHT
TZOFFSETFROM:+0100
TZOFFSETTO:+0200
TZNAME:CEST
DTSTART:19700329T020000
RRULE:FREQ=YEARLY;BYMONTH=3;BYDAY=-1SU
END:DAYLIGHT
BEGIN:STANDARD
TZOFFSETFROM:+0200
TZOFFSETTO:+0100
TZNAME:CET
DTSTART:19701025T030000
RRULE:FREQ=YEARLY;BYMONTH=10;BYDAY=-1SU
END:STANDARD
END:VTIMEZONE
BEGIN:VEVENT
UID:2485226:Event:2735055
DTSTAMP:20260424T200924Z
SUMMARY:Projection-Débat du film de Michèle Decoust : \"Un instant d
 ’éternité, l’Art Lumière de Viviane-José Restiau \"
DESCRIPTION:Conférence - EchangesProjection du film suivie d’un éc
 hange avec la réalisatrice.Version française avec sous-titres anglai
 s (55 min-2015)Ce film de Michèle Decoust présente pour la première
  fois la vie extraordinaire d’une artiste peintre, Viviane José Res
 tieau, et l’odyssée d’une Œuvre dont l’inspiration « directe 
 » transcende la singularité d’une vie.Visionnaire, l’Art Lumièr
 e s’inscrit dans la vérité de notre temps, où la physique quantiq
 ue nous fait découvrir que nous sommes les atomes d’un seul et mêm
 e grand corps, reliés à la Terre et au Cosmos, et solidaires de la m
 ême destinée.Sont ainsi reliés, dans des styles multiples et hors d
 e tout dogme, les grands archétypes du Vivant, la géométrie sacrée
  de ses formes,l’embryogenèse, les signes totems des Peuples Racine
 s, ou les révélations des Vedas et des mystiques soufis.Michèle Dec
 oust diplômée de Sciences Politiques est journaliste, écrivain et r
 éalisatrice. Ses thèmes sont l’écologie de la Terre, du corps et 
 de l’Esprit. Depuis2010, elle a notamment réalisé \"Auroville une 
 terre pour demain\" et \"Auroville le lien d’Or\", ainsi que \"Voyag
 e dans l’infiniment bref\", documentaire sur le Pr Aziz El Amrani.El
 le a par ailleurs co-signé avec Gauthier Chapelle Le vivant comme mod
 èle, la voie du bio-mimètisme chez Albin Michel en octobre 2015.Vivi
 ane-José Restiau est une artiste vivant à Montreuil. Exploratrice en
 tre microcosme et macrocosme, elle est partie souvent et sous plusieur
 s angles à la rencontre des éléments constitutifs de la vie (air, t
 erre, eau, feu). Lorsqu’elle réalise une œuvre, après une longue 
 période de silence, elle déploie ses pigments par un tracé direct a
 vec ses mains.RER B: arrêt \" La Courneuve- Aubervilliers \"à 5min d
 e la station de RER à pied Fin prévue de cet évènement : 22:00 \n
 \nPour plus d'information, aller sur https://epanews.fr/events/project
 ion-d-bat-du-film-de-mich-le-decoust-un-instant-d-ternit-l
DTSTART;TZID=Europe/Paris:20161119T200000
DTEND;TZID=Europe/Paris:20161119T220000
CATEGORIES:93
LOCATION:Centre Rose-croix d'or
WEBSITE:http://paris.rose-croix-d-or.org
URL:http://paris.rose-croix-d-or.org
CONTACT:0788481942
ORGANIZER;CN=sylvanus:https://epanews.fr/profile/sylvanus
ATTACH;FMTTYPE="image/jpeg":http://storage.ning.com/topology/rest/1.0/
 file/get/1663618925?profile=original
ATTENDEE;ROLE=REQ-PARTICIPANT;PARTSTAT=ACCEPTED;RSVP=TRUE;CN=sylvanus:
 https://epanews.fr/profile/sylvanus
END:VEVENT
END:VCALENDAR
