BEGIN:VCALENDAR
PRODID:NingEventWidget-v1
VERSION:2.0
METHOD:PUBLISH
BEGIN:VTIMEZONE
TZID:Europe/Paris
X-LIC-LOCATION:Europe/Paris
BEGIN:DAYLIGHT
TZOFFSETFROM:+0100
TZOFFSETTO:+0200
TZNAME:CEST
DTSTART:19700329T020000
RRULE:FREQ=YEARLY;BYMONTH=3;BYDAY=-1SU
END:DAYLIGHT
BEGIN:STANDARD
TZOFFSETFROM:+0200
TZOFFSETTO:+0100
TZNAME:CET
DTSTART:19701025T030000
RRULE:FREQ=YEARLY;BYMONTH=10;BYDAY=-1SU
END:STANDARD
END:VTIMEZONE
BEGIN:VEVENT
UID:2485226:Event:741857
DTSTAMP:20260424T034436Z
SUMMARY:Programme des conférences
DESCRIPTION: Épanouissement Personnel dans l’Equité\nPlus que jama
 is, dans ces périodes difficiles, la Vie nous invite à nous demander
 ,  au fond,  Qu’Est-ce qui est vraiment Juste ?\n... Venez découvr
 ir la valeur de l'équité! Passés les faux semblants, les aspiration
 s sur effets d’annonces, que me reste-t-il vraiment qui ne soit pas 
 seulement une recherche d’un bénéfice à court terme… J’attend
 s de la vie… et ce que j’apporte ? Et d’autres questions sur le
  Sens de ce qui est Juste, auxquelles je tacherai d’apporter des ré
 ponses ! Site :  www.equiteki.fr \n\nPour plus d'information, alle
 r sur https://epanews.fr/events/programme-des-conf-rences-1
DTSTART;TZID=Europe/Paris:20120419T190000
DTEND;TZID=Europe/Paris:20120419T210000
CATEGORIES:70
LOCATION:Vesoul
WEBSITE:http://fr.mappy.com/map#d=19,rue+marcel+rozard,+70000+frotey+l
 es+vesoul
URL:http://fr.mappy.com/map#d=19,rue+marcel+rozard,+70000+frotey+les+v
 esoul
CONTACT:0625886938
ORGANIZER;CN="Christian TONNON":https://epanews.fr/profile/ChristianTO
 NNON
ATTACH;FMTTYPE="image/jpeg":http://storage.ning.com/topology/rest/1.0/
 file/get/1662581032?profile=original
ATTENDEE;ROLE=REQ-PARTICIPANT;PARTSTAT=ACCEPTED;RSVP=TRUE;CN="Christia
 n TONNON":https://epanews.fr/profile/ChristianTONNON
END:VEVENT
END:VCALENDAR
