BEGIN:VCALENDAR
PRODID:NingEventWidget-v1
VERSION:2.0
METHOD:PUBLISH
BEGIN:VTIMEZONE
TZID:Europe/Paris
X-LIC-LOCATION:Europe/Paris
BEGIN:DAYLIGHT
TZOFFSETFROM:+0100
TZOFFSETTO:+0200
TZNAME:CEST
DTSTART:19700329T020000
RRULE:FREQ=YEARLY;BYMONTH=3;BYDAY=-1SU
END:DAYLIGHT
BEGIN:STANDARD
TZOFFSETFROM:+0200
TZOFFSETTO:+0100
TZNAME:CET
DTSTART:19701025T030000
RRULE:FREQ=YEARLY;BYMONTH=10;BYDAY=-1SU
END:STANDARD
END:VTIMEZONE
BEGIN:VEVENT
UID:2485226:Event:2024722
DTSTAMP:20260421T232100Z
SUMMARY:Prochains stages de Bars d'Access Consciousness à Manosque
DESCRIPTION:Un stage animé par Marie-Claire Mucelli, coach et psycho-
 énergéticienne.\nLes 24 et 30 septembre à Manosque ; et, sur dem
 ande, à la date de votre choix.\nLes Bars d'Access Consciousness, ce 
 sont 32 point sur la tête qui, touchés avec douceur permettent de re
 lâcher facilement et sans effort vos vieux schémas limitants. Un vra
 i booster d'évolution !\nCe processus a déja permis à des milliers 
 de personnes de transformer plusieurs aspects de leur vie et de leur c
 orps (sommeil, santé, poids, rapport à l'argent, sexualité, relatio
 nnel, stress ...etc.)\nDe plus, apprendre les bars ne vous prendra qu'
 une journée ! Une journée où vous donnerez et recevrez 2 fois une s
 éance de bars. \nVous repartirez avec un certificat, et un manuel qu
 i vous permettra de pratiquer en toute sécurité.\nJe vous invite à 
 en savoir plus en lisant cet article : http://www.coachingquintessenc
 e.net/article-les-bars-d-access-consciousness-121532576.html\nParticip
 ation : 160€ la première fois , 80€ les 2 suivantes. \nRenseignem
 ents et inscription : Merci de me contacter par mail : mc.mucelli@wan
 adoo.fr ou par téléphone au 06 13 23 53 99.\n\nPour plus d'informati
 on, aller sur https://epanews.fr/events/prochains-stages-de-bars-d-acc
 ess-consciousness-manosque
DTSTART;TZID=Europe/Paris:20140930T000000
DTEND;TZID=Europe/Paris:20140930T235900
CATEGORIES:tous
LOCATION:Manosque
WEBSITE:https://www.google.fr/maps/place/21+Chemin+du+Relais,+Parc+Nat
 urel+r%C3%A9gional+du+Luberon,+04100+Manosque/@43.8438493,5.7867732,17
 z/data=!3m1!4b1!4m2!3m1!1s0x12cbcc4f3f9d697d:0x9229aaebd4dc14e2?hl=fr
URL:https://www.google.fr/maps/place/21+Chemin+du+Relais,+Parc+Naturel
 +r%C3%A9gional+du+Luberon,+04100+Manosque/@43.8438493,5.7867732,17z/da
 ta=!3m1!4b1!4m2!3m1!1s0x12cbcc4f3f9d697d:0x9229aaebd4dc14e2?hl=fr
CONTACT:0613235399
ORGANIZER:Coaching quintessence
ATTACH;FMTTYPE="image/jpeg":http://storage.ning.com/topology/rest/1.0/
 file/get/1663199725?profile=original
ATTENDEE;ROLE=REQ-PARTICIPANT;PARTSTAT=ACCEPTED;RSVP=TRUE;CN="coaching
  quintessence":https://epanews.fr/profile/coachingquintessence
END:VEVENT
END:VCALENDAR
