BEGIN:VCALENDAR
PRODID:NingEventWidget-v1
VERSION:2.0
METHOD:PUBLISH
BEGIN:VTIMEZONE
TZID:Europe/Paris
X-LIC-LOCATION:Europe/Paris
BEGIN:DAYLIGHT
TZOFFSETFROM:+0100
TZOFFSETTO:+0200
TZNAME:CEST
DTSTART:19700329T020000
RRULE:FREQ=YEARLY;BYMONTH=3;BYDAY=-1SU
END:DAYLIGHT
BEGIN:STANDARD
TZOFFSETFROM:+0200
TZOFFSETTO:+0100
TZNAME:CET
DTSTART:19701025T030000
RRULE:FREQ=YEARLY;BYMONTH=10;BYDAY=-1SU
END:STANDARD
END:VTIMEZONE
BEGIN:VEVENT
UID:2485226:Event:68416
DTSTAMP:20260421T125958Z
SUMMARY:\" Prendre soin de soi , cela s'apprend \"
DESCRIPTION:portes ouvertes les 19 Juin & 24 juillet 2010 de 10 h à 1
 8 H , 11 Interveants auprés de qui , durant toute la journée, vous p
 ourrez vous informer ,découvrir, et pratiquer: Modelage du corps et v
 isage, Tarot Marseillais, Sophrologie, Chi gong, Décodage Biologique,
  Magnétisme & Radiesthésie, Lecture intuitive, Danse Angélique, Rel
 axation en Biosynergie ... Entrée, Conférences et ateliers découver
 tes Gratuits ...\n\nPour plus d'information, aller sur https://epanews
 .fr/events/prendre-soin-de-soi-cela
DTSTART;TZID=Europe/Paris:20100619T000000
DTEND;TZID=Europe/Paris:20100619T235900
CATEGORIES:83
LOCATION:Villa \"Les Volubilis\"
WEBSITE:
URL:
CONTACT:www.jouons-ensemble.fr
ORGANIZER;CN="Eric Behoteguy Hypno-Magnétisme":https://epanews.fr/pro
 file/EricBehoteguy
ATTACH;FMTTYPE="image/jpeg":http://storage.ning.com/topology/rest/1.0/
 file/get/1662305343?profile=original
ATTENDEE;ROLE=REQ-PARTICIPANT;PARTSTAT=ACCEPTED;RSVP=TRUE;CN="veglio y
 vette":https://epanews.fr/profile/veglioyvette
ATTENDEE;ROLE=REQ-PARTICIPANT;PARTSTAT=ACCEPTED;RSVP=TRUE;CN=papillon:
 https://epanews.fr/profile/papillon
ATTENDEE;ROLE=REQ-PARTICIPANT;PARTSTAT=ACCEPTED;RSVP=TRUE;CN=Presence:
 https://epanews.fr/profile/Presence
ATTENDEE;ROLE=REQ-PARTICIPANT;PARTSTAT=ACCEPTED;RSVP=TRUE;CN=fransou:h
 ttps://epanews.fr/profile/fransou
ATTENDEE;ROLE=REQ-PARTICIPANT;PARTSTAT=ACCEPTED;RSVP=TRUE;CN="arc en c
 iel":https://epanews.fr/profile/arcenciel
ATTENDEE;ROLE=REQ-PARTICIPANT;PARTSTAT=ACCEPTED;RSVP=TRUE;CN=joy83:htt
 ps://epanews.fr/profile/joy83
ATTENDEE;ROLE=REQ-PARTICIPANT;PARTSTAT=ACCEPTED;RSVP=TRUE;CN="Eric Beh
 oteguy Hypno-Magnétisme":https://epanews.fr/profile/EricBehoteguy
ATTENDEE;ROLE=REQ-PARTICIPANT;PARTSTAT=TENTATIVE;RSVP=TRUE;CN="Jocelyn
 e Diana":https://epanews.fr/profile/JocelyneDiana
ATTENDEE;ROLE=REQ-PARTICIPANT;PARTSTAT=TENTATIVE;RSVP=TRUE;CN="Anne-Ma
 rie PAILLARD":https://epanews.fr/profile/AnneMariePAILLARD
END:VEVENT
END:VCALENDAR
