BEGIN:VCALENDAR
PRODID:NingEventWidget-v1
VERSION:2.0
METHOD:PUBLISH
BEGIN:VTIMEZONE
TZID:Europe/Paris
X-LIC-LOCATION:Europe/Paris
BEGIN:DAYLIGHT
TZOFFSETFROM:+0100
TZOFFSETTO:+0200
TZNAME:CEST
DTSTART:19700329T020000
RRULE:FREQ=YEARLY;BYMONTH=3;BYDAY=-1SU
END:DAYLIGHT
BEGIN:STANDARD
TZOFFSETFROM:+0200
TZOFFSETTO:+0100
TZNAME:CET
DTSTART:19701025T030000
RRULE:FREQ=YEARLY;BYMONTH=10;BYDAY=-1SU
END:STANDARD
END:VTIMEZONE
BEGIN:VEVENT
UID:2485226:Event:2854810
DTSTAMP:20260421T161914Z
SUMMARY:reiki trditionnel japonais
DESCRIPTION:C'est le premier pas de cet enseignement japonais, Vous po
 uvez vous arrêtez a ce niveau ou continuer. Il apporte autonomie et b
 ien-être.\nAfin de mieux être à l'écoute, je ne prends en groupe q
 ue 4 élèves maximum, ou alors si vous le souhaitez en \"solo\". Rega
 rdez  sur mon site les conditions d'inscription et le détail des ens
 eignements de ce Reiki Usui, en ligne directe de Mikao Usui le fondate
 ur, par Hiroshi DOÏ le 4 éme Shihan après lui.\n\nPour plus d'infor
 mation, aller sur https://epanews.fr/events/premier-niveau-du-gendai-r
 eiki-shoden
DTSTART;TZID=Europe/Paris:20170803T090000
DTEND;TZID=Europe/Paris:20170803T173000
CATEGORIES:75020, paris
LOCATION:&agrave; l&#039;Institut , 75020 Paris
WEBSITE:https://www.gendai-reiki.fr/
URL:https://www.gendai-reiki.fr/
CONTACT:0664343400
ORGANIZER;CN="Edith GAUTHIER":https://epanews.fr/profile/EdithGAUTHIER
ATTACH;FMTTYPE="image/jpeg":http://storage.ning.com/topology/rest/1.0/
 file/get/1663680889?profile=original
ATTENDEE;ROLE=REQ-PARTICIPANT;PARTSTAT=ACCEPTED;RSVP=TRUE;CN="Edith GA
 UTHIER":https://epanews.fr/profile/EdithGAUTHIER
END:VEVENT
END:VCALENDAR
