BEGIN:VCALENDAR
PRODID:NingEventWidget-v1
VERSION:2.0
METHOD:PUBLISH
BEGIN:VTIMEZONE
TZID:Europe/Paris
X-LIC-LOCATION:Europe/Paris
BEGIN:DAYLIGHT
TZOFFSETFROM:+0100
TZOFFSETTO:+0200
TZNAME:CEST
DTSTART:19700329T020000
RRULE:FREQ=YEARLY;BYMONTH=3;BYDAY=-1SU
END:DAYLIGHT
BEGIN:STANDARD
TZOFFSETFROM:+0200
TZOFFSETTO:+0100
TZNAME:CET
DTSTART:19701025T030000
RRULE:FREQ=YEARLY;BYMONTH=10;BYDAY=-1SU
END:STANDARD
END:VTIMEZONE
BEGIN:VEVENT
UID:2485226:Event:1785955
DTSTAMP:20260423T121109Z
SUMMARY:PremiÃ¨res rencontres sur le paranormal, lâ€™Ã©nergie, la spir
 itualitÃ©, lâ€™Ã©sotÃ©risme, le bien-Ãªtre Ã  Moscardon, Aragon, Espag
 ne du 4 au 11 AOUT 2014 avec RÃ©gine, Michel et Luz
DESCRIPTION:. Vous Ãªtes voyants, tarologues, magnÃ©tiseurs, Ã©nergÃ©t
 itiens, nutritÃ©rapeuthes, mÃ©diums, astrologues, naturopathes confirm
 Ã©s ou en devenir, ou vous voulez en savoir plus dans ces domaines ces
  premiÃ¨res rencontres sont faites pour vous Nous vous proposons de no
 us retrouver dans un environnement naturel, ressourÃ§ant, revivifiant 
 d'oÃ¹ vous repartirez rÃ©gÃ©nÃ©rÃ©s. Lâ€™idÃ©e est que chacun puisse s
 â€™exprimer, Ã©changer, Ã©couter, poser des questions sur son domaine 
 et celui des autres et en mÃªme temps passer des vacances inoubliables
  L'hÃ©bergement se fait dans des chambres doubles Ã  l'hÃ´tel \"El Cas
 tellar**\" Ã  Moscardon ; petit village d'Aragon, prÃ¨s de TÃ©ruel, Ã 
  proximitÃ© d'Albarracin, un des plus beaux villages d'Espagne. Ce vil
 lage est entourÃ© de plusieurs kilomÃ¨tres carrÃ©s de forÃªt de pins e
 t d'autres espÃ¨ces d'arbres : idÃ©al pour la mÃ©ditation, les promena
 des vivifiantes, un retour Ã  la nature Il se trouve Ã  plus de 1400 m
 Ã¨tres dâ€™altitude, On lâ€™appelle le Â« pays du bout du monde Â», ca
 r il se termine par une trÃ¨s haute falaise abrupte.Â  Proposition de 
 dÃ©roulement type dâ€™une journÃ©e : Ã  voir sur place MÃ©ditation en 
 extÃ©rieur dans un lieu chargÃ© dâ€™ondes positives si le temps le per
 met (sinon dans le salon de lâ€™hÃ´tel) Petit dÃ©jeuner, vers 8 h 30, 
 9 h 00 ConfÃ©rence, table ronde, prÃ©sentation dâ€™un ou plusieurs suj
 ets sur le paranormal, lâ€™Ã©sotÃ©risme Questions Ateliers par petits 
 groupes Entretiens individuels (non compris dans le forfait) DÃ©jeuner
  vers 13h 00 dans un restaurant Ã  proximitÃ© de lâ€™hÃ´tel ActivitÃ©s
  libres, repos ou promenade dans la forÃªt, ou autres activitÃ©s* Dine
 r vers 20 h 00. Table ronde, confÃ©rence, prÃ©sentation de domaine dâ€
 ™activitÃ©s, mÃ©ditation Toutes ces activitÃ©s ne sont pas obligatoire
 s mais possibles si on le souhaite et comprise dans le forfait. * Acti
 vitÃ©s possibles non comprises dans le forfait : Ã©quitation, promenad
 es nature avec guide, initiation Ã  la photographie, escalade, 2 visit
 es dâ€™Al Barracin, un des plus beaux villages dâ€™Espagne, le centre-
 ville et le chÃ¢teau, le musÃ©e, natation dans une piscine dâ€™eau de 
 source. FORFAIT : HEBERGEMENT PENSION COMPLETE DANS UNE CHAMBRE A DEUX
  320 â‚¬ HEBERGEMENT Â½ PENSION DANS UNE CHAMBRE A DEUX 230 â‚¬ HEBERG
 EMENT PENSION COMPLETE DANS UNE CHAMBRE TOUT SEUL 410 â‚¬ HEBERGEMENT 
 Â½ PENSION DANS UNE CHAMBRE TOUT SEUL 350 â‚¬ POUR LE VOYAGE (non comp
 ris dans le forfait) DES COVOITURAGES SERONT ORGANISES ; POSSIBILITE D
 E VOYAGE EN AVION, TRAIN, AUTOCAR, PUIS REGROUPEMENT ET ACCUEIL A TERU
 EL TRANSPORT EN PETIT AUTOBUS JUSQUâ€™A Lâ€™HOTEL. DES RENSEIGNEMENTS 
 COMPLEMENTAIRES VOUS SERONT FOURNIS ULTERIEUREMENT Lâ€™INSCRIPTION NE 
 SERA EFFECTIVE QUE LORSQUâ€™UN ACOMPTE DE 50 EUROS SERA VERSE. PAIEMEN
 TS ACCEPTES : VIREMENT BANCAIRE, PAIEMENT PAYPAL OU MANDAT CASH. couco
 u peux-tu mettre sur ta page, et diffuser auprÃ¨s de tes ami(e)s ; je 
 te remercie d'avance\n\nPour plus d'information, aller sur https://epa
 news.fr/events/premi-res-rencontres-sur-le-paranormal-l-nergie-la-spir
 itualit-l
DTSTART;TZID=Europe/Paris:20140804T170000
DTEND;TZID=Europe/Paris:20140811T090000
CATEGORIES:tous
LOCATION:hotel El Castellar, Aragon, Espagne
WEBSITE:
URL:
CONTACT:http://www.hotelelcastellar.com/
ORGANIZER;CN="Jac fouliard":https://epanews.fr/profile/Jacfouliard
ATTACH;FMTTYPE="image/jpeg":http://storage.ning.com/topology/rest/1.0/
 file/get/1663062117?profile=original
END:VEVENT
END:VCALENDAR
