BEGIN:VCALENDAR
PRODID:NingEventWidget-v1
VERSION:2.0
METHOD:PUBLISH
BEGIN:VTIMEZONE
TZID:Europe/Paris
X-LIC-LOCATION:Europe/Paris
BEGIN:DAYLIGHT
TZOFFSETFROM:+0100
TZOFFSETTO:+0200
TZNAME:CEST
DTSTART:19700329T020000
RRULE:FREQ=YEARLY;BYMONTH=3;BYDAY=-1SU
END:DAYLIGHT
BEGIN:STANDARD
TZOFFSETFROM:+0200
TZOFFSETTO:+0100
TZNAME:CET
DTSTART:19701025T030000
RRULE:FREQ=YEARLY;BYMONTH=10;BYDAY=-1SU
END:STANDARD
END:VTIMEZONE
BEGIN:VEVENT
UID:2485226:Event:2870395
DTSTAMP:20260420T153522Z
SUMMARY:Pratiques KundalinÃ® Yoga
DESCRIPTION:Pratiques KundalinÃ® yoga avec Dyal SinghTous les mercredi
 s de 18h00 Ã  19h45\nActif tout en Ã©tant mÃ©ditatif, le KundalinÃ® yo
 ga se pratique dans une attitude d'intÃ©riorisation et de rÃ©ceptivitÃ
 © Ã  ce qui se passe en soi. C'est pourquoi on l'appelle aussi \"yoga 
 de la conscience\". Il consiste Ã  rÃ©veillerle lien entre le soi indi
 viduel limitÃ© et le Soi infini cosmique. La technologie du KundalinÃ®
  yoga vise Ã  harmoniser l'Ãªtre humain avec l'univers, et Ã  ouvrir l
 'espace de la joie.\nCours accessibles Ã  toutes et tous quelque soit 
 l'expÃ©rience.Chacun(e) apporte son tapis de sol, coussin, couverture 
 & tenue souple.\nTarifs 1 cours 12â‚¬ non adhÃ©rent - 11â‚¬ adhÃ©rent4
  cours 44â‚¬ non adhÃ©rent - 40â‚¬ adhÃ©rent11 cours 105â‚¬ non adhÃ©r
 ent - 99â‚¬ adhÃ©rent\nInscription :NadÃ¨ge 06.23.01.35.96 - larcencie
 ldupartage@gmail.com\nLieu L'arc en ciel du partage1 rue garanciÃ¨re 1
 1100 narbonnewww.larcencieldupartage.org\n\nPour plus d'information, a
 ller sur https://epanews.fr/events/pratiques-kundalin-yoga
DTSTART;TZID=Europe/Paris:20171004T180000
DTEND;TZID=Europe/Paris:20171004T194500
CATEGORIES:11
LOCATION:narbonne
WEBSITE:http://www.larcencieldupartage.org
URL:http://www.larcencieldupartage.org
CONTACT:0623013596
ORGANIZER;CN="L'arc en ciel du partage":https://epanews.fr/profile/Lar
 cencieldupartage
ATTACH;FMTTYPE="image/jpeg":http://storage.ning.com/topology/rest/1.0/
 file/get/1663686944?profile=original
ATTENDEE;ROLE=REQ-PARTICIPANT;PARTSTAT=ACCEPTED;RSVP=TRUE;CN="L'arc en
  ciel du partage":https://epanews.fr/profile/Larcencieldupartage
END:VEVENT
END:VCALENDAR
