BEGIN:VCALENDAR
PRODID:NingEventWidget-v1
VERSION:2.0
METHOD:PUBLISH
BEGIN:VTIMEZONE
TZID:Europe/Paris
X-LIC-LOCATION:Europe/Paris
BEGIN:DAYLIGHT
TZOFFSETFROM:+0100
TZOFFSETTO:+0200
TZNAME:CEST
DTSTART:19700329T020000
RRULE:FREQ=YEARLY;BYMONTH=3;BYDAY=-1SU
END:DAYLIGHT
BEGIN:STANDARD
TZOFFSETFROM:+0200
TZOFFSETTO:+0100
TZNAME:CET
DTSTART:19701025T030000
RRULE:FREQ=YEARLY;BYMONTH=10;BYDAY=-1SU
END:STANDARD
END:VTIMEZONE
BEGIN:VEVENT
UID:2485226:Event:1938272
DTSTAMP:20260421T172447Z
SUMMARY:pratique pilates
DESCRIPTION:connaissez vous cette pratique corporelle ? une gymnastiqu
 e intelligente .......pour en prendre connaissance regardez mon site ,
 plus particulierement les pages a propos .\nhttp://chabalamour2.wix.co
 m/-pilates-sud\nvous aurez également des informations sur moi .\npour
  essayer concrètement je vous propose des initiations .\n \nje propo
 se cette activité librement pour renforcer ma formation et ma pratiqu
 e d'enseignement du \"mat\" (au sol sans machine)et faire connaitre ce
 tte fabuleuse technique.\nLISEZ BIEN LES CONSIGNES\nje mettrai un \"ch
 apeau\" à votre bon coeur car je loue la salle\nCONDITIONS\n- pas de 
 gros problemes physiques en crise - possible pour protheses de hanche 
 ou genou . - bien signaler vos faiblesses ostéoporose ou autre . - ve
 nez en  tenue confortable de sport il n'y a pas de vestiaire\n- un ta
 pis de yoga (surtout ne pas oublier) - eventuellement un coussin bien 
 jouflu . cette pratique sera considérée comme un rendez-vous sous vo
 tre propre responsabilité .\n\n\nPour plus d'information, aller sur h
 ttps://epanews.fr/events/pratique-pilates
DTSTART;TZID=Europe/Paris:20140603T183000
DTEND;TZID=Europe/Paris:20140603T193000
CATEGORIES:13
LOCATION:MARSEILLE
WEBSITE:
URL:
CONTACT:
ORGANIZER;CN="annie LAMOUR":https://epanews.fr/profile/annieLAMOUR
ATTACH;FMTTYPE="image/jpeg":
ATTENDEE;ROLE=REQ-PARTICIPANT;PARTSTAT=ACCEPTED;RSVP=TRUE;CN="annie LA
 MOUR":https://epanews.fr/profile/annieLAMOUR
END:VEVENT
END:VCALENDAR
