BEGIN:VCALENDAR
PRODID:NingEventWidget-v1
VERSION:2.0
METHOD:PUBLISH
BEGIN:VTIMEZONE
TZID:Europe/Paris
X-LIC-LOCATION:Europe/Paris
BEGIN:DAYLIGHT
TZOFFSETFROM:+0100
TZOFFSETTO:+0200
TZNAME:CEST
DTSTART:19700329T020000
RRULE:FREQ=YEARLY;BYMONTH=3;BYDAY=-1SU
END:DAYLIGHT
BEGIN:STANDARD
TZOFFSETFROM:+0200
TZOFFSETTO:+0100
TZNAME:CET
DTSTART:19701025T030000
RRULE:FREQ=YEARLY;BYMONTH=10;BYDAY=-1SU
END:STANDARD
END:VTIMEZONE
BEGIN:VEVENT
UID:2485226:Event:2564266
DTSTAMP:20260422T012113Z
SUMMARY:pratique pilates
DESCRIPTION:tous les mardi à 18h15 rue vian ( la plaine) lieu : zimza
 m\ntous les jeudis 12h30 et 18h centre Baussenque ,rue Baussenque (pan
 ier)\n\nPour plus d'information, aller sur https://epanews.fr/events/p
 ratique-pilates-1
DTSTART;TZID=Europe/Paris:20160119T180000
DTEND;TZID=Europe/Paris:20160119T190000
CATEGORIES:13
LOCATION:marseille
WEBSITE:
URL:
CONTACT:
ORGANIZER;CN="annie LAMOUR":https://epanews.fr/profile/annieLAMOUR
ATTACH;FMTTYPE="image/jpeg":
ATTENDEE;ROLE=REQ-PARTICIPANT;PARTSTAT=ACCEPTED;RSVP=TRUE;CN="annie LA
 MOUR":https://epanews.fr/profile/annieLAMOUR
END:VEVENT
END:VCALENDAR
