BEGIN:VCALENDAR
PRODID:NingEventWidget-v1
VERSION:2.0
METHOD:PUBLISH
BEGIN:VTIMEZONE
TZID:Europe/Paris
X-LIC-LOCATION:Europe/Paris
BEGIN:DAYLIGHT
TZOFFSETFROM:+0100
TZOFFSETTO:+0200
TZNAME:CEST
DTSTART:19700329T020000
RRULE:FREQ=YEARLY;BYMONTH=3;BYDAY=-1SU
END:DAYLIGHT
BEGIN:STANDARD
TZOFFSETFROM:+0200
TZOFFSETTO:+0100
TZNAME:CET
DTSTART:19701025T030000
RRULE:FREQ=YEARLY;BYMONTH=10;BYDAY=-1SU
END:STANDARD
END:VTIMEZONE
BEGIN:VEVENT
UID:2485226:Event:1673259
DTSTAMP:20260424T023325Z
SUMMARY:pratique meditative /relaxation
DESCRIPTION:pratique meditative/relaxation\nharmonisation corps souffl
 e esprit\naccompagnement   tambour chamanique et chants\nmerci d'appo
 rter coussin plaid tapis\nun thé ou une tisane partagé en fin de sé
 ance\nsi vous le désirez\n\nPour plus d'information, aller sur https:
 //epanews.fr/events/pratique-meditative-relaxation
DTSTART;TZID=Europe/Paris:20131210T200000
DTEND;TZID=Europe/Paris:20131210T210000
CATEGORIES:30
LOCATION:13 ch dr rouques 30200 Bagnols sur ceze
WEBSITE:
URL:
CONTACT:
ORGANIZER;CN=bibliss:https://epanews.fr/profile/bibliss
ATTACH;FMTTYPE="image/jpeg":
ATTENDEE;ROLE=REQ-PARTICIPANT;PARTSTAT=ACCEPTED;RSVP=TRUE;CN=bibliss:h
 ttps://epanews.fr/profile/bibliss
END:VEVENT
END:VCALENDAR
