BEGIN:VCALENDAR
PRODID:NingEventWidget-v1
VERSION:2.0
METHOD:PUBLISH
BEGIN:VTIMEZONE
TZID:Europe/Paris
X-LIC-LOCATION:Europe/Paris
BEGIN:DAYLIGHT
TZOFFSETFROM:+0100
TZOFFSETTO:+0200
TZNAME:CEST
DTSTART:19700329T020000
RRULE:FREQ=YEARLY;BYMONTH=3;BYDAY=-1SU
END:DAYLIGHT
BEGIN:STANDARD
TZOFFSETFROM:+0200
TZOFFSETTO:+0100
TZNAME:CET
DTSTART:19701025T030000
RRULE:FREQ=YEARLY;BYMONTH=10;BYDAY=-1SU
END:STANDARD
END:VTIMEZONE
BEGIN:VEVENT
UID:2485226:Event:2584276
DTSTAMP:20260422T032633Z
SUMMARY:PrÃ©sentation gratuite de la MÃ©thode Corps Ã‰motion ParoleÂ® 
 Ã  Marseille
DESCRIPTION:Retrouver un Ã©quilibre physique et Ã©motionnel\nâ€¢ Se re
 connecter avec son CORPS â€¢ LibÃ©rer ses Ã‰MOTIONS â€¢ Oser la PAROLE
  Â  La MÃ©thode C.E.P.Â® est une technique de Â«toucher-massageÂ» orig
 inale qui privilÃ©gie uneÂ approche globale de l'individu et prend en 
 compte ses dimensionsÂ physique,Â psychique etÂ Ã©motionnelle. Â  Que 
 ce soit dans le cadre dâ€™une formation personnelle ouÂ dans le but dâ
 €™une formationÂ professionnelle certifiante (reconversion, complÃ©men
 t dâ€™activitÃ©s : retraitÃ©, salariÃ©â€¦),Â cetteÂ MÃ©thode constitue
  un vÃ©ritable outil dâ€™Ã©panouissement personnel.Â  Â  Prochaine prÃ
 ©sentation :Â mardi 23 fÃ©vrier Ã  19h. DurÃ©e 1h30. Â  Animatrice : C
 arol VERGER Â  Nombre de places limitÃ©, rÃ©servez dÃ¨s maintenant ! Â
   IMPÃ‰RATIF : inscriptions au 06 11 892 034\nPlus d'information en su
 ivant ce lien : cliquez ici.\n\nPour plus d'information, aller sur htt
 ps://epanews.fr/events/pr-sentation-gratuite-de-la-m-thode-corps-motio
 n-parole-marseille
DTSTART;TZID=Europe/Paris:20160223T190000
DTEND;TZID=Europe/Paris:20160223T203000
CATEGORIES:13
LOCATION:Centre du Mont
WEBSITE:http://www.les13portes.com/Les_13_Portes/Accueil.html
URL:http://www.les13portes.com/Les_13_Portes/Accueil.html
CONTACT:0491482991
ORGANIZER:Ã‰cole de formation Les 13 Portes
ATTACH;FMTTYPE="image/jpeg":http://storage.ning.com/topology/rest/1.0/
 file/get/1663532529?profile=original
ATTENDEE;ROLE=REQ-PARTICIPANT;PARTSTAT=ACCEPTED;RSVP=TRUE;CN=Carol:htt
 ps://epanews.fr/profile/Carol
END:VEVENT
END:VCALENDAR
