BEGIN:VCALENDAR
PRODID:NingEventWidget-v1
VERSION:2.0
METHOD:PUBLISH
BEGIN:VTIMEZONE
TZID:Europe/Paris
X-LIC-LOCATION:Europe/Paris
BEGIN:DAYLIGHT
TZOFFSETFROM:+0100
TZOFFSETTO:+0200
TZNAME:CEST
DTSTART:19700329T020000
RRULE:FREQ=YEARLY;BYMONTH=3;BYDAY=-1SU
END:DAYLIGHT
BEGIN:STANDARD
TZOFFSETFROM:+0200
TZOFFSETTO:+0100
TZNAME:CET
DTSTART:19701025T030000
RRULE:FREQ=YEARLY;BYMONTH=10;BYDAY=-1SU
END:STANDARD
END:VTIMEZONE
BEGIN:VEVENT
UID:2485226:Event:2657462
DTSTAMP:20260422T071001Z
SUMMARY:PrÃ©sentation de l'Ã©nnÃ©agramme
DESCRIPTION:PrÃ©sentation de l'EnnÃ©agramme par Michael Therrat\nle lu
 ndi 6 juin 2016 Ã  19h00\nUn modÃ¨le de 9 types/profils qui dÃ©couvren
 t nos talents et nos schÃ©mas (limitatifs) de pensÃ©e, notre orientati
 on, notre fiertÃ© ...Â \nÂ Un outil de meilleure comprÃ©hension de soi
  et de plus grande conscience des autres.Â \nÂ L'EnnÃ©agramme s'adress
 e Ã  tous, Ã  titre personnel, familial, Ã©ducatif, professionnel, thÃ
 ©rapeutique, ou spirituel.Â \nÂ Venez dÃ©couvrir l'EnnÃ©agrammeÂ \nÂ P
 rÃ©sentation du cycle d'initiation\nParticipation :\n7 â‚¬ non adhÃ©re
 nt\n5â‚¬ adhÃ©rent\nrÃ©servation au 06.23.01.35.96 NadÃ¨ge ou larcenci
 eldupartage@sfr.fr\nL'arc en ciel du partage\n1 rue garanciÃ¨re 11100 
 Narbonne\nwww.larcencieldupartage.org\n\nPour plus d'information, alle
 r sur https://epanews.fr/events/pr-sentation-de-l-nn-agramme
DTSTART;TZID=Europe/Paris:20160606T190000
DTEND;TZID=Europe/Paris:20160606T210000
CATEGORIES:11
LOCATION:narbonne
WEBSITE:http://www.larcencieldupartage.org
URL:http://www.larcencieldupartage.org
CONTACT:0623013596
ORGANIZER;CN="L'arc en ciel du partage":https://epanews.fr/profile/Lar
 cencieldupartage
ATTACH;FMTTYPE="image/jpeg":http://storage.ning.com/topology/rest/1.0/
 file/get/1663572295?profile=original
ATTENDEE;ROLE=REQ-PARTICIPANT;PARTSTAT=ACCEPTED;RSVP=TRUE;CN="L'arc en
  ciel du partage":https://epanews.fr/profile/Larcencieldupartage
END:VEVENT
END:VCALENDAR
