BEGIN:VCALENDAR
PRODID:NingEventWidget-v1
VERSION:2.0
METHOD:PUBLISH
BEGIN:VTIMEZONE
TZID:Europe/Paris
X-LIC-LOCATION:Europe/Paris
BEGIN:DAYLIGHT
TZOFFSETFROM:+0100
TZOFFSETTO:+0200
TZNAME:CEST
DTSTART:19700329T020000
RRULE:FREQ=YEARLY;BYMONTH=3;BYDAY=-1SU
END:DAYLIGHT
BEGIN:STANDARD
TZOFFSETFROM:+0200
TZOFFSETTO:+0100
TZNAME:CET
DTSTART:19701025T030000
RRULE:FREQ=YEARLY;BYMONTH=10;BYDAY=-1SU
END:STANDARD
END:VTIMEZONE
BEGIN:VEVENT
UID:2485226:Event:721533
DTSTAMP:20260421T113220Z
SUMMARY:Présentation de l'Atelier du Sama'a
DESCRIPTION:En Mars, la présentation de l'atelier du Sama'a à Paris 
 sera suivie de la célébration de Norouz, nouvel an Persan.\nStage ou
 verts sans pré requis\nLes participants peuvent expérimenter le Sama
 'a soit par observation et contemplation ou /et prendre part en suivan
 t la pratique des mouvements par la méthode de l'attention divisée q
 ui produit un état de rassemblement et de présence.\nTarif 30€/ate
 lier - Observateur participation libre\nBanquet de Norouz sur réserva
 tion\nwww.whirling121.com\nwww.facebook.com/danse.sacree\n\nPour plus 
 d'information, aller sur https://epanews.fr/events/pr-sentation-de-l-a
 telier-du-sama-a
DTSTART;TZID=Europe/Paris:20120317T180000
DTEND;TZID=Europe/Paris:20120320T010000
CATEGORIES:75
LOCATION:Paris
WEBSITE:http://www.whirling121.com
URL:http://www.whirling121.com
CONTACT:0622961551
ORGANIZER;CN="Danse des derviches tourneurs-":https://epanews.fr/profi
 le/Sparfel925
ATTACH;FMTTYPE="image/jpeg":http://storage.ning.com/topology/rest/1.0/
 file/get/1662569172?profile=original
ATTENDEE;ROLE=REQ-PARTICIPANT;PARTSTAT=ACCEPTED;RSVP=TRUE;CN="Danse de
 s derviches tourneurs-":https://epanews.fr/profile/Sparfel925
END:VEVENT
END:VCALENDAR
