BEGIN:VCALENDAR
PRODID:NingEventWidget-v1
VERSION:2.0
METHOD:PUBLISH
BEGIN:VTIMEZONE
TZID:Europe/Paris
X-LIC-LOCATION:Europe/Paris
BEGIN:DAYLIGHT
TZOFFSETFROM:+0100
TZOFFSETTO:+0200
TZNAME:CEST
DTSTART:19700329T020000
RRULE:FREQ=YEARLY;BYMONTH=3;BYDAY=-1SU
END:DAYLIGHT
BEGIN:STANDARD
TZOFFSETFROM:+0200
TZOFFSETTO:+0100
TZNAME:CET
DTSTART:19701025T030000
RRULE:FREQ=YEARLY;BYMONTH=10;BYDAY=-1SU
END:STANDARD
END:VTIMEZONE
BEGIN:VEVENT
UID:2485226:Event:2180622
DTSTAMP:20260422T140746Z
SUMMARY:Pour que le pouvoir de l'attraction devienne enfin mon alliÃ©.
 ..!
DESCRIPTION:Qui n'a jamais eu le sentiment de se retrouver inlassablem
 ent dans les mÃªmes situations pÃ©nibles, difficiles ou nÃ©gatives, vo
 ire dramatiques ? Qui ne s'est jamais dit : Pfu je rencontre toujours 
 le mÃªme type personne qui m'enfonce au lieu de m'aider Ã  Ã©voluer ? 
 Afin de sortir de ce cercle vicieux, il ne faut pas oublier que les mÃ
 ªmes causes produisent les mÃªmes effets, ou que les mÃªme vibrations 
 attirent les mÃªmes Ã©vÃ¨nements !  Afin de sortir de ce cercle vicieu
 x Franca MASTRO DI CASA vous parlera de la \"Loi d'Attraction\" ou \"L
 oi de la RÃ©sonance\" Ã  l'occasion de cette soirÃ©e \"ConfÃ©rence/Ate
 lier\". Elle tÃ©moignera en toute simplicitÃ© de son expÃ©rience perso
 nnelle : Comment de SDF elle retrouve une vie Ã©panouie grÃ¢ce Ã  la \
 "loi d'Attraction\"  Mais aussi elle vous donnera des outils simples e
 t efficaces que vous pourrez utiliser au quotidien, et qui vous permet
 tront d'Ã©lever votre taux vibratoire et de le charger positivement et
  d'attirer Ã  vous tout ce dont vous avez vraiment besoin...  Ainsi vo
 us apprendrez comment vivre vos RÃªves... RÃ©aliser vos objectifs... P
 iloter votre Destin... Reprendre votre vie en main, redevenir ce que v
 ous avez toujours Ã©tÃ©... Le CrÃ©ateur de votre Vie...  Nul ne peut d
 iriger votre Vie, Ã  moins de lui en donner la possibilitÃ©...  PAF po
 ur la soirÃ©e dÃ©couverte = 10 â‚¬.  N'oubliez pas de me tÃ©lÃ©phoner 
 pour rÃ©server votre participation car les places sont limitÃ©es.\n\nP
 our plus d'information, aller sur https://epanews.fr/events/pour-que-l
 e-pouvoir-de-l-attraction-devienne-enfin-mon-alli
DTSTART;TZID=Europe/Paris:20150123T190000
DTEND;TZID=Europe/Paris:20150123T220000
CATEGORIES:13
LOCATION:Espace Ki-Zen
WEBSITE:
URL:
CONTACT:06.22.07.16.10
ORGANIZER;CN="Espace Ki-Zen":https://epanews.fr/profile/EspaceKiZen
ATTACH;FMTTYPE="image/jpeg":http://storage.ning.com/topology/rest/1.0/
 file/get/1663299534?profile=original
ATTENDEE;ROLE=REQ-PARTICIPANT;PARTSTAT=ACCEPTED;RSVP=TRUE;CN="Espace K
 i-Zen":https://epanews.fr/profile/EspaceKiZen
END:VEVENT
END:VCALENDAR
