BEGIN:VCALENDAR
PRODID:NingEventWidget-v1
VERSION:2.0
METHOD:PUBLISH
BEGIN:VTIMEZONE
TZID:Europe/Paris
X-LIC-LOCATION:Europe/Paris
BEGIN:DAYLIGHT
TZOFFSETFROM:+0100
TZOFFSETTO:+0200
TZNAME:CEST
DTSTART:19700329T020000
RRULE:FREQ=YEARLY;BYMONTH=3;BYDAY=-1SU
END:DAYLIGHT
BEGIN:STANDARD
TZOFFSETFROM:+0200
TZOFFSETTO:+0100
TZNAME:CET
DTSTART:19701025T030000
RRULE:FREQ=YEARLY;BYMONTH=10;BYDAY=-1SU
END:STANDARD
END:VTIMEZONE
BEGIN:VEVENT
UID:2485226:Event:1497649
DTSTAMP:20260423T102818Z
SUMMARY:Portes ouvertes  Biodanza, danse de la vie,
DESCRIPTION:Gratuit, pour adultes\nPrésentation de la Biodanza : son 
 origine, ses objectifs, ses bienfaits suivie d'un atelier pratique de 
 Biodanza\nPour tous, quelque soit votre âge et votre condition physiq
 ue, nul besoin de savoir danser.\nSe mettre en mouvement sur des musiq
 ues variés, dans un groupe accueillant et respectueux, avec des consi
 gnes claires et accessibles à tous.\nInscrivez vous pour réserver vo
 tre place : \nAssociation Biodanz'art 06 87 55 10 13 \nPlus de rense
 ignements et infos pratiques sur www.biodanza-art.fr\n\nPour plus d'in
 formation, aller sur https://epanews.fr/events/portes-ouvertes-biodanz
 a-danse-de-la-vie
DTSTART;TZID=Europe/Paris:20130904T200000
DTEND;TZID=Europe/Paris:20130904T220000
CATEGORIES:13
LOCATION:marseille  vieux port
WEBSITE:http://www.levillagedesfacteursdimages.org
URL:http://www.levillagedesfacteursdimages.org
CONTACT:06 87 55 10 13
ORGANIZER:Véro et Eric
ATTACH;FMTTYPE="image/jpeg":
ATTENDEE;ROLE=REQ-PARTICIPANT;PARTSTAT=ACCEPTED;RSVP=TRUE;CN=Véro:htt
 ps://epanews.fr/profile/Vero472
END:VEVENT
END:VCALENDAR
