BEGIN:VCALENDAR
PRODID:NingEventWidget-v1
VERSION:2.0
METHOD:PUBLISH
BEGIN:VTIMEZONE
TZID:Europe/Paris
X-LIC-LOCATION:Europe/Paris
BEGIN:DAYLIGHT
TZOFFSETFROM:+0100
TZOFFSETTO:+0200
TZNAME:CEST
DTSTART:19700329T020000
RRULE:FREQ=YEARLY;BYMONTH=3;BYDAY=-1SU
END:DAYLIGHT
BEGIN:STANDARD
TZOFFSETFROM:+0200
TZOFFSETTO:+0100
TZNAME:CET
DTSTART:19701025T030000
RRULE:FREQ=YEARLY;BYMONTH=10;BYDAY=-1SU
END:STANDARD
END:VTIMEZONE
BEGIN:VEVENT
UID:2485226:Event:968074
DTSTAMP:20260420T023243Z
SUMMARY:porquoi 20012 philippe bobola
DESCRIPTION:13  OctobreProjection 20h30« POURQUOI 2012 ?Des réponse
 s entre science et conscience par Philippe BOBOLA, physicien et biolog
 isteParticipation : 5 Euros\n\nPour plus d'information, aller sur http
 s://epanews.fr/events/porquoi-20012-philippe-bobola
DTSTART;TZID=Europe/Paris:20121013T203000
DTEND;TZID=Europe/Paris:20121013T223000
CATEGORIES:11
LOCATION:rennes les bains
WEBSITE:
URL:
CONTACT:
ORGANIZER:debowska production
ATTACH;FMTTYPE="image/jpeg":
ATTENDEE;ROLE=REQ-PARTICIPANT;PARTSTAT=ACCEPTED;RSVP=TRUE;CN=MIR:https
 ://epanews.fr/profile/MIR282
END:VEVENT
END:VCALENDAR
