BEGIN:VCALENDAR
PRODID:NingEventWidget-v1
VERSION:2.0
METHOD:PUBLISH
BEGIN:VTIMEZONE
TZID:Europe/Paris
X-LIC-LOCATION:Europe/Paris
BEGIN:DAYLIGHT
TZOFFSETFROM:+0100
TZOFFSETTO:+0200
TZNAME:CEST
DTSTART:19700329T020000
RRULE:FREQ=YEARLY;BYMONTH=3;BYDAY=-1SU
END:DAYLIGHT
BEGIN:STANDARD
TZOFFSETFROM:+0200
TZOFFSETTO:+0100
TZNAME:CET
DTSTART:19701025T030000
RRULE:FREQ=YEARLY;BYMONTH=10;BYDAY=-1SU
END:STANDARD
END:VTIMEZONE
BEGIN:VEVENT
UID:2485226:Event:1407103
DTSTAMP:20260421T034324Z
SUMMARY:plantes de la saint Jean
DESCRIPTION:Cueillette des plantes de la Saint Jean  \nVendredi  21
  juin  \n  \nUne sortie à la rencontre des plantes médicinales d
 e Haute-Savoie et Savoie  \n   Deux propositions : matin ou aprè
 s midi  \n   Pour ceux ou celle qui restent la journée possible 
 de manger ensemble à midi.  \n   9 h à 12 h  \n   14 h à 
 17 h  \n     20 € la demi journée ou 35 € la journée.  \
 n     \n 24 juin, fête de la Saint-Jean Baptiste, fête de la l
 umière et du feu.  \n   Les feux de la Saint Jean remontent à l
 a nuit des temps… il était de tradition d'aller à la    cueille
 tte des herbes de la Saint jean.  \n  \n   Possible en soirée,
  partage autour d’un feu…  \n   Bulletin d’inscription sur
  demande 06 73 01 41 35  \nsabrina.millot@orange.fr  \nhttp://www.
 lavalsedesaromes.com/index_fichiers/Page1448.htm  \n\nPour plus d'in
 formation, aller sur https://epanews.fr/events/plantes-de-la-saint-jea
 n
DTSTART;TZID=Europe/Paris:20130621T090000
DTEND;TZID=Europe/Paris:20130621T160000
CATEGORIES:74210
LOCATION:74210
WEBSITE:http://www.lavalsedesaromes.com/
URL:http://www.lavalsedesaromes.com/
CONTACT:0673014135
ORGANIZER;CN="Millot Sabrina":https://epanews.fr/profile/MillotSabrina
ATTACH;FMTTYPE="image/jpeg":http://storage.ning.com/topology/rest/1.0/
 file/get/1662865225?profile=original
ATTENDEE;ROLE=REQ-PARTICIPANT;PARTSTAT=ACCEPTED;RSVP=TRUE;CN="Millot S
 abrina":https://epanews.fr/profile/MillotSabrina
END:VEVENT
END:VCALENDAR
