BEGIN:VCALENDAR
PRODID:NingEventWidget-v1
VERSION:2.0
METHOD:PUBLISH
BEGIN:VTIMEZONE
TZID:Europe/Paris
X-LIC-LOCATION:Europe/Paris
BEGIN:DAYLIGHT
TZOFFSETFROM:+0100
TZOFFSETTO:+0200
TZNAME:CEST
DTSTART:19700329T020000
RRULE:FREQ=YEARLY;BYMONTH=3;BYDAY=-1SU
END:DAYLIGHT
BEGIN:STANDARD
TZOFFSETFROM:+0200
TZOFFSETTO:+0100
TZNAME:CET
DTSTART:19701025T030000
RRULE:FREQ=YEARLY;BYMONTH=10;BYDAY=-1SU
END:STANDARD
END:VTIMEZONE
BEGIN:VEVENT
UID:2485226:Event:54432
DTSTAMP:20260419T225247Z
SUMMARY:Pique-nique  \"Chacun son Paradis\"
DESCRIPTION:A chacun son paradis.\nChacun d'entre nous connaÃ®t ou bie
 n se souvient d'un lieu qui devint l'image de son paradis sur terre !\
 nParfois c'est une odeur qui nous emporte vers ce lieu. Ou bien câ€™es
 t un son ou une musique qui nous y conduit .\nParfois c'est un lieu im
 aginaire oÃ¹ l'on se retire pour mÃ©diter. Parfois l'on souhaite parta
 ger son paradis avant qu'il ne devienne un enfer... Ou bien on n'a jam
 ais rencontrÃ© une parcelle de paradis dans sa vie et on cherche ce pa
 radis sans pouvoir le trouver...Parfois on peut passer Ã  travers un p
 aradis sans sâ€™en apercevoirâ€¦Parfois on a Ã©tÃ© contraint de le qui
 tter, ce paradisâ€¦\n\nL'association Alter Anagia et l'association de 
 Bouche Ã  Oreilles vous invitent le 23 mai Ã  un piquenique rencontre 
 (repas tirÃ© du sac)\nRendez-vous devant la Mairie de Nages et Solorgu
 es Ã  10h30. PrÃ©voir des bonnes chaussures de marche . Nous visiteron
 s les ruines de l'Oppidum de Nages et puis une fois installÃ©s, nous Ã
 ©changerons sur le thÃ¨me Â« A Chacun son paradis Â». Lester\n\nInscri
 ption souhaitÃ©e pour prÃ©voir covoiturage\ninfo@vaunage.net\n\nPour p
 lus d'information, aller sur https://epanews.fr/events/piquenique-chac
 un-son-paradis
DTSTART;TZID=Europe/Paris:20100523T000000
DTEND;TZID=Europe/Paris:20100523T235900
CATEGORIES:30, 34, 13, 84, tous
LOCATION:Gard
WEBSITE:http://2Bao30.blogspot.com
URL:http://2Bao30.blogspot.com
CONTACT:06 33 73 49 62
ORGANIZER:Associations Alter Anagia et De Bouches Ã  Oreilles
ATTACH;FMTTYPE="image/jpeg":http://storage.ning.com/topology/rest/1.0/
 file/get/1662297372?profile=original
ATTENDEE;ROLE=REQ-PARTICIPANT;PARTSTAT=ACCEPTED;RSVP=TRUE;CN="alain ll
 oria":https://epanews.fr/profile/alainlloria
ATTENDEE;ROLE=REQ-PARTICIPANT;PARTSTAT=ACCEPTED;RSVP=TRUE;CN="Marie-Pi
 erre Carlier":https://epanews.fr/profile/CARLIER
ATTENDEE;ROLE=REQ-PARTICIPANT;PARTSTAT=TENTATIVE;RSVP=TRUE;CN=mumucast
 agnette:https://epanews.fr/profile/mumucastagnette
ATTENDEE;ROLE=REQ-PARTICIPANT;PARTSTAT=TENTATIVE;RSVP=TRUE;CN=Florence
 :https://epanews.fr/profile/Florence
END:VEVENT
END:VCALENDAR
