BEGIN:VCALENDAR
PRODID:NingEventWidget-v1
VERSION:2.0
METHOD:PUBLISH
BEGIN:VTIMEZONE
TZID:Europe/Paris
X-LIC-LOCATION:Europe/Paris
BEGIN:DAYLIGHT
TZOFFSETFROM:+0100
TZOFFSETTO:+0200
TZNAME:CEST
DTSTART:19700329T020000
RRULE:FREQ=YEARLY;BYMONTH=3;BYDAY=-1SU
END:DAYLIGHT
BEGIN:STANDARD
TZOFFSETFROM:+0200
TZOFFSETTO:+0100
TZNAME:CET
DTSTART:19701025T030000
RRULE:FREQ=YEARLY;BYMONTH=10;BYDAY=-1SU
END:STANDARD
END:VTIMEZONE
BEGIN:VEVENT
UID:2485226:Event:883251
DTSTAMP:20260422T091244Z
SUMMARY:Pique Nique à thème
DESCRIPTION:Que diriez vous d'un pique nique thématique le dimanche 2
 9 juillet à 12h00?\nChacun apporte des boissons et alimentations à p
 artager\nCauserie sur le thème: Qui sont les Maîtres de Sagesse?\nA 
 l'extérieur dans l'herbe devant la Pagode du Bois de Vincennes, Route
  de la ceinture du Lac Daunesnil,75012 Paris.\n(l'adresse est Parisien
 ne mais le lieu est sur \"Vincennes\")\nMétro: Porte Dorée.\nNous se
 rons identifiable avec une pancarte \"Pique Nique Thématique\".\nPart
 icipation au frais: gratuit.\n\nPour plus d'information, aller sur htt
 ps://epanews.fr/events/pique-nique-th-me
DTSTART;TZID=Europe/Paris:20120729T120000
DTEND;TZID=Europe/Paris:20120729T160000
CATEGORIES:75
LOCATION:Vincennes en face de la Pagode
WEBSITE:
URL:
CONTACT:
ORGANIZER;CN=KIONA:https://epanews.fr/profile/KIONA
ATTACH;FMTTYPE="image/jpeg":
ATTENDEE;ROLE=REQ-PARTICIPANT;PARTSTAT=ACCEPTED;RSVP=TRUE;CN=KIONA:htt
 ps://epanews.fr/profile/KIONA
END:VEVENT
END:VCALENDAR
