BEGIN:VCALENDAR
PRODID:NingEventWidget-v1
VERSION:2.0
METHOD:PUBLISH
BEGIN:VTIMEZONE
TZID:Europe/Paris
X-LIC-LOCATION:Europe/Paris
BEGIN:DAYLIGHT
TZOFFSETFROM:+0100
TZOFFSETTO:+0200
TZNAME:CEST
DTSTART:19700329T020000
RRULE:FREQ=YEARLY;BYMONTH=3;BYDAY=-1SU
END:DAYLIGHT
BEGIN:STANDARD
TZOFFSETFROM:+0200
TZOFFSETTO:+0100
TZNAME:CET
DTSTART:19701025T030000
RRULE:FREQ=YEARLY;BYMONTH=10;BYDAY=-1SU
END:STANDARD
END:VTIMEZONE
BEGIN:VEVENT
UID:2485226:Event:893062
DTSTAMP:20260421T172732Z
SUMMARY:Picnics dubienetre : C'est le mois d'aout !!!
DESCRIPTION:BONJOUR A TOUTES ET A TOUS ! :) oOoooOoOOooooooooOOOooOoOo
 oooOOoooOOOooOoo  Le Dimanche 05/08/2012 je propose un événement PIC
 NIC MASSAGE , massage et yoga du rire au soleil, le retour DES PICNICS
  DUBIENETRE !!   Le principe : une réunion gratuite & conviviale sur 
 l’herbe de l’esplanade des Invalides à Paris.  On apporte de quoi
  grignoter et se désaltérer et on peut rencontrer des gens aimant ma
 sser et être massé (professionnels ou amateurs). Aussi des gens de l
 'univers du bien être.  Pour rendre le moment encore plus agréable, 
 voilà ce qui sera possible étant donné que nous serons à l’exté
 rieur et en public.  A) Massage habillé. Pour cela venez avec une ten
 ue souple et confortable. Des vêtement prêt du corps sont conseillé
 s car moins il y a de plis plus c’est agréable. Mais pour des mouve
 ments de type SHIATSU ou LOMI LOMI ou bercement, n’importe quels vê
 tements souples et légers seront bons. Des massages du type relaxatio
 n coréenne et thaïlandais sont de toute façon pratiqués habillé. 
  B) Massage sur peau. Les mains. Le visage. La tête. Tout cela est fa
 cile à faire, même assis, debout ou couché ! Massage des pieds : po
 ur cela pensez à apporter quelques lingettes nettoyantes, venez en to
 ng si vous voulez ! Si certains le souhaitent peut-être sera-t-il pos
 sible de faire le dos.  C) Massage sur chaise. Massage sur tabouret ou
  sur chaise de massage. Selon la position et votre morphologie vous au
 rez le choix. Des massages plutôt courts et dynamiques.  Il y aura de
 s gens sachant masser et des gens ne sachant pas masser. Donc ce sera 
 aussi l’occasion d’apprendre et de développer notre réseau et d'
 échanger nos cartes de visite. Nous pourrons faire des échanges ! No
 us pourrons partager notre passion pour le monde du massage !  C’est
  un événement GRATUIT mais je propose que chacun discute préalablem
 ent lors de la rencontre car ce sera sympa de donner un petit cadeau s
 i vous vous faites masser et que vous ne pouvez pas échanger, une man
 ière de dire que vous avez apprécié avec quelques pièces ou autre 
 chose, un sourire, un gâteau, etc... !  Après avoir fait des free hu
 gs au Champ de Mars, je suis passé à l’étape supérieure. Il y a 
 eu de nombreux picnics du bien être en 2011 à Paris et à New York. 
 Alors c'est reparti pour 2012 ! (de mi-mai à mi-septembre minimum)  J
 e pense que notre monde à besoin de chaleur humaine alors rendez-vous
  dimanche.  RENDEZ-VOUS DE 12h30 à 19h (mais ca peut se prolonger par
 fois) AU COIN DE LA RUE DE UNIVERSITÉ ET DE L’AVENUE DU MARECHAL GA
 LLIENI (la grande avenue centrale). C’est le carré d’herbe au cen
 tre des 3 carrés d’herbe côté tour Eiffel. (Parfois nous restons 
 bien plus tard pour l'apéro du soir !)  J’apporterai des tapis de s
 ol et des nattes de plage et plein d'autres choses pour votre confort 
 mais je demande à tous ceux qui le peuvent d’en faire autant : tapi
 s de sol, tapis de yoga, nattes de plages, grands draps de plage, une 
 ou deux chaises pliantes, etc...  Je précise aussi que ceci est une a
 ctivité pour des gens sains de corps et d'esprit. Aucune attitude dé
 placée ne sera tolérée par le groupe. Ceci n'est pas non plus un gr
 oupe de rencontre et il n'y aucune parité ni obligation de résultat 
 !  Juste un picnic cool ! Et c'est ouvert à toute la famille petits e
 t grands !  A bientôt, JACQUES Lespicnics dubienetre 06 20 33 60 85\n
 \nPour plus d'information, aller sur https://epanews.fr/events/picnics
 -dubienetre-c-est-le-mois-d-aout
DTSTART;TZID=Europe/Paris:20120805T123000
DTEND;TZID=Europe/Paris:20120805T190000
CATEGORIES:75
LOCATION:Paris 75007
WEBSITE:
URL:
CONTACT:0620336085
ORGANIZER;CN="Jack Massage 75":https://epanews.fr/profile/Jackpalance7
 5
ATTACH;FMTTYPE="image/jpeg":
ATTENDEE;ROLE=REQ-PARTICIPANT;PARTSTAT=ACCEPTED;RSVP=TRUE;CN="Jack Mas
 sage 75":https://epanews.fr/profile/Jackpalance75
END:VEVENT
END:VCALENDAR
