BEGIN:VCALENDAR
PRODID:NingEventWidget-v1
VERSION:2.0
METHOD:PUBLISH
BEGIN:VTIMEZONE
TZID:Europe/Paris
X-LIC-LOCATION:Europe/Paris
BEGIN:DAYLIGHT
TZOFFSETFROM:+0100
TZOFFSETTO:+0200
TZNAME:CEST
DTSTART:19700329T020000
RRULE:FREQ=YEARLY;BYMONTH=3;BYDAY=-1SU
END:DAYLIGHT
BEGIN:STANDARD
TZOFFSETFROM:+0200
TZOFFSETTO:+0100
TZNAME:CET
DTSTART:19701025T030000
RRULE:FREQ=YEARLY;BYMONTH=10;BYDAY=-1SU
END:STANDARD
END:VTIMEZONE
BEGIN:VEVENT
UID:2485226:Event:829432
DTSTAMP:20260420T064323Z
SUMMARY:Les picnics du bien être, picnic massage. La vie en rose !
DESCRIPTION:Ce dimanche 27/05/2012 je propose un événement PICNIC MA
 SSAGE DANS L'HERBE, le retour DES PICNICS DUBIENETRE !! LE THEME = LA 
 VIE EN ROSE alors portez ou apportez quelque chose de rose !   Le prin
 cipe : une réunion gratuite & conviviale sur l’herbe de l’esplana
 de des Invalides.  On apporte de quoi grignoter et se désaltérer et 
 on peut rencontrer des gens aimant masser et être massé.\n  Voilà c
 e qui sera possible étant donné que nous serons à l’extérieur et
  en public.  A) Massage habillé. Pour cela venez avec une tenue soupl
 e et confortable. Des vêtement prêt du corps sont conseillés car mo
 ins il y a de plis plus c’est agréable. Mais pour des mouvements de
  type SHIATSU ou LOMI LOMI ou bercement, n’importe quels vêtements 
 souples et légers seront bons. Des massages du type relaxation corée
 nne et thaïlandais sont de toute façon pratiqués habillé.  B) Mass
 age sur peau. Les mains. Le visage. La tête. Tout cela est facile à 
 faire, même assis, debout ou couché ! Massage des pieds : pour cela 
 pensez à apporter quelques lingettes nettoyantes, venez en tong si vo
 us voulez ! Si certains le souhaitent peut-être sera-t-il possible de
  faire le dos.  C) Massage sur chaise. Massage sur tabouret ou sur cha
 ise de massage. Selon la position et votre morphologie vous aurez le c
 hoix. Des massages plutôt courts et dynamiques.  Nous pourrons faire 
 des échanges ! Nous pourrons partager notre passion pour le monde du 
 massage !  C’est un événement GRATUIT mais je propose que chacun d
 iscute  lors de la rencontre car ce sera sympa de donner un petit cad
 eau si vous vous faites masser et  ne pouvez pas échanger, pour dire
  que vous avez apprécié avec quelques pièces ou autre chose, un sou
 rire, un gâteau, etc... !  Je pense que notre monde à besoin de chal
 eur humaine alors rendez-vous dimanche.  RENDEZ-VOUS DE 12h30 à 19h A
 U COIN DE LA RUE DE UNIVERSITÉ ET DE L’AVENUE DU MARECHAL GALLIENI 
 (la grande avenue centrale). C’est le carré d’herbe au centre des
  3 carrés d’herbe côté tour Eiffel. J’apporterai des tapis de s
 ol et des nattes de plage et plein d'autres choses pour votre confort 
 mais je demande à tous ceux qui le peuvent d’en faire autant : tapi
 s de sol, tapis de yoga, nattes de plages, grands draps de plage, une 
 ou deux chaises pliantes, etc...  Ceci est une activité pour des gens
  sains de corps et d'esprit. Aucune attitude déplacée ne sera tolér
 ée par le groupe. Ceci n'est pas non plus un groupe de rencontre et i
 l n'y aucune parité ni obligation de résultat !  Juste un picnic coo
 l ! Et c'est ouvert à toute la famille petits et grands !  A bientôt
 , JACQUES Lespicnics dubienetre 06 20 33 60 85 \n\n\n\n\n\n\nPour plus
  d'information, aller sur https://epanews.fr/events/picnics-du-bienetr
 e-2012-picnic-massage-la-vie-en-rose-1
DTSTART;TZID=Europe/Paris:20120527T123000
DTEND;TZID=Europe/Paris:20120527T190000
CATEGORIES:75
LOCATION:ESPLANADE DES INVALIDES dans l Herbe !
WEBSITE:
URL:
CONTACT:0620336085
ORGANIZER;CN="Jack Massage 75":https://epanews.fr/profile/Jackpalance7
 5
ATTACH;FMTTYPE="image/jpeg":
ATTENDEE;ROLE=REQ-PARTICIPANT;PARTSTAT=ACCEPTED;RSVP=TRUE;CN="Jack Mas
 sage 75":https://epanews.fr/profile/Jackpalance75
END:VEVENT
END:VCALENDAR
