BEGIN:VCALENDAR
PRODID:NingEventWidget-v1
VERSION:2.0
METHOD:PUBLISH
BEGIN:VTIMEZONE
TZID:Europe/Paris
X-LIC-LOCATION:Europe/Paris
BEGIN:DAYLIGHT
TZOFFSETFROM:+0100
TZOFFSETTO:+0200
TZNAME:CEST
DTSTART:19700329T020000
RRULE:FREQ=YEARLY;BYMONTH=3;BYDAY=-1SU
END:DAYLIGHT
BEGIN:STANDARD
TZOFFSETFROM:+0200
TZOFFSETTO:+0100
TZNAME:CET
DTSTART:19701025T030000
RRULE:FREQ=YEARLY;BYMONTH=10;BYDAY=-1SU
END:STANDARD
END:VTIMEZONE
BEGIN:VEVENT
UID:2485226:Event:980611
DTSTAMP:20260421T063645Z
SUMMARY:Pic nic au château
DESCRIPTION:Venez me rejoindre à cette sortie organisé par le groupe
  informel \"Mr Pâté\" sur Facebook.\n \nAttention, nous sommes invi
 té 'au chateau' pour un pic nic gastronomique alors si vous ne voule
 z pas vous faire remarquer, veuillez n'apporter ni produits trop super
 marché, ni verres en plastique !\n \nProduits maison bienvenus ainsi
  que les produits du terroir.\nChacun doit venir avec son verre (à pi
 ed !).\n \nLe pain est fourni mais pas le vin.\n \nSORTIE GRATUITE\n
  \nPour venir :\nhttp://www.chateauduseuil.fr/fr/index.htm\n \nPlus 
 d'info sur Facebook https://www.facebook.com/events/111800108972132/\n
 \nPour plus d'information, aller sur https://epanews.fr/events/pic-nic
 -au-chateau
DTSTART;TZID=Europe/Paris:20121021T120000
DTEND;TZID=Europe/Paris:20121021T180000
CATEGORIES:13
LOCATION:Puyricard
WEBSITE:https://www.facebook.com/events/111800108972132/
URL:https://www.facebook.com/events/111800108972132/
CONTACT:
ORGANIZER:Mr Pâté
ATTACH;FMTTYPE="image/jpeg":http://storage.ning.com/topology/rest/1.0/
 file/get/1662411945?profile=original
ATTENDEE;ROLE=REQ-PARTICIPANT;PARTSTAT=ACCEPTED;RSVP=TRUE;CN="Sophie L
 efrançois":https://epanews.fr/profile/SophieLefrancois
ATTENDEE;ROLE=REQ-PARTICIPANT;PARTSTAT=ACCEPTED;RSVP=TRUE;CN=Ambroise:
 https://epanews.fr/profile/Ambroise
ATTENDEE;ROLE=REQ-PARTICIPANT;PARTSTAT=TENTATIVE;RSVP=TRUE;CN=reikigir
 l:https://epanews.fr/profile/reikigirl
ATTENDEE;ROLE=REQ-PARTICIPANT;PARTSTAT=TENTATIVE;RSVP=TRUE;CN="MARIE J
 O 13013":https://epanews.fr/profile/MARIEJO13013
ATTENDEE;ROLE=REQ-PARTICIPANT;PARTSTAT=TENTATIVE;RSVP=TRUE;CN=danielst
 cyrsurmer:https://epanews.fr/profile/danielstcyrsurmer
END:VEVENT
END:VCALENDAR
