BEGIN:VCALENDAR
PRODID:NingEventWidget-v1
VERSION:2.0
METHOD:PUBLISH
BEGIN:VTIMEZONE
TZID:Europe/Paris
X-LIC-LOCATION:Europe/Paris
BEGIN:DAYLIGHT
TZOFFSETFROM:+0100
TZOFFSETTO:+0200
TZNAME:CEST
DTSTART:19700329T020000
RRULE:FREQ=YEARLY;BYMONTH=3;BYDAY=-1SU
END:DAYLIGHT
BEGIN:STANDARD
TZOFFSETFROM:+0200
TZOFFSETTO:+0100
TZNAME:CET
DTSTART:19701025T030000
RRULE:FREQ=YEARLY;BYMONTH=10;BYDAY=-1SU
END:STANDARD
END:VTIMEZONE
BEGIN:VEVENT
UID:2485226:Event:192258
DTSTAMP:20260420T094827Z
SUMMARY:Photographie de l'aura
DESCRIPTION:Isabelle FORRESTIER, médium, analyse la photographie de v
 otre aura.\nGrâce à cette lecture, elle peut vous aider à comprendr
 e qui vous êtes, qui vous pourriez être, et comment avancer dans vot
 re vie en utilisant au mieux vos potentiels.\n \nConsultation à l'Es
 pace des possibles, 7 rue des Boucheries, à TOULON.\nPrise de rendez 
 vous indispensable (durée environ 45 minutes)\nTarif : 50 euros\nInsc
 ription sur place ou par tel : 04 94 46 71 02 ou mail : lespacedesposs
 ibles@gmail.com\n \n \n\nPour plus d'information, aller sur https://
 epanews.fr/events/photographie-de-laura
DTSTART;TZID=Europe/Paris:20110401T000000
DTEND;TZID=Europe/Paris:20110402T235900
CATEGORIES:83
LOCATION:TOULON
WEBSITE:
URL:
CONTACT:04 94 46 71 02
ORGANIZER;CN="Michel FIGARELLA":https://epanews.fr/profile/Lespacedesp
 ossibles
ATTACH;FMTTYPE="image/jpeg":
ATTENDEE;ROLE=REQ-PARTICIPANT;PARTSTAT=ACCEPTED;RSVP=TRUE;CN="Pierre d
 e Lune":https://epanews.fr/profile/PascaleDegioanni
ATTENDEE;ROLE=REQ-PARTICIPANT;PARTSTAT=ACCEPTED;RSVP=TRUE;CN="Michel F
 IGARELLA":https://epanews.fr/profile/Lespacedespossibles
ATTENDEE;ROLE=REQ-PARTICIPANT;PARTSTAT=TENTATIVE;RSVP=TRUE;CN="martine
  Rey":https://epanews.fr/profile/martineRey
END:VEVENT
END:VCALENDAR
