BEGIN:VCALENDAR
PRODID:NingEventWidget-v1
VERSION:2.0
METHOD:PUBLISH
BEGIN:VTIMEZONE
TZID:Europe/Paris
X-LIC-LOCATION:Europe/Paris
BEGIN:DAYLIGHT
TZOFFSETFROM:+0100
TZOFFSETTO:+0200
TZNAME:CEST
DTSTART:19700329T020000
RRULE:FREQ=YEARLY;BYMONTH=3;BYDAY=-1SU
END:DAYLIGHT
BEGIN:STANDARD
TZOFFSETFROM:+0200
TZOFFSETTO:+0100
TZNAME:CET
DTSTART:19701025T030000
RRULE:FREQ=YEARLY;BYMONTH=10;BYDAY=-1SU
END:STANDARD
END:VTIMEZONE
BEGIN:VEVENT
UID:2485226:Event:2817615
DTSTAMP:20260422T115906Z
SUMMARY:Philippe Douillet
DESCRIPTION:SEMINAIRE : LA RELATION A Lâ€™AUTRE : UN CHEMIN VERS SOIWE
 EK-END DU 13 ET 14 MAI 2017 AU CHATEAU DE FAY LES ETANGSBonjourNous pr
 Ã©sentons avec Christine Audry un sÃ©minaire sur la synergie entre la 
 psychothÃ©rapie (sa spÃ©cialitÃ©) et l'Ã©nergÃ©tique surtout avec les 
 bols tibÃ©tains (ma spÃ©cialitÃ©). Evidemment ce week-end est ouvert Ã
   tous, mÃªme si vous n'Ãªtes pas en couple, surtout si vous n'Ãªtes p
 as en couple. Vous pouvez venir seul ou accompagnÃ©. Le sÃ©minaire se 
 dÃ©roulera dans le magnifique chÃ¢teau de Fay les Etangs (60240) que v
 ous pouvez dÃ©couvrir avec la vidÃ©o suivante https://www.youtube.com/
 watch?v=ed1jyE4LthsMerci de diffuser l'information autour de vous. Vou
 s aurez la possibilitÃ© dâ€™enregistrer le sÃ©minaire.\nTarif : 250â‚¬
 HÃ©bergement sur place : 40 â‚¬ la nuitRenseignement et inscription Ch
 ristine Audry : 03 84 24 65 25 ou 06 15 27 65 37 christineaudry089@gma
 il.com\nDÃ©roulement du week-end (non contractuel) nous nous adaptons 
 en fonction du groupe. Les exercices peuvent avoir lieu dans un ordre 
 diffÃ©rent que celui exposÃ© ci-dessous, il peut y en avoir d'autres e
 t certains peuvent ne pas avoir lieu.Accueil et prÃ©sentation. Finalit
 Ã© du sÃ©minaire : Retrouver la foi en soi et retrouver la foi dans la
  relation dâ€™amour. En sortant du sÃ©minaire : Tout est possible si j
 e suis seul et tout est possible si je suis avec quelquâ€™un. ReconquÃ
 ©rir la joie de vivre seul ou accompagnÃ©. AmÃ©liorer sa relation avec
  soi-mÃªme sur le versant positif pour vivre une meilleure relation Ã 
  lâ€™autre. Reprendre sa responsabilitÃ© en prenant conscience que câ€
 ™est moi qui attire vibratoirement tel ou tel type de personne ou de s
 ituation en lien avec mon Ã©tat intÃ©rieur et mon champ informationnel
 . Toute rencontre est source dâ€™Ã©volution et prÃ©pare la suivante. N
 ous allons dÃ©velopper le sens de la relation avec Ã  la fois des appo
 rts thÃ©oriques et des exercices pratiques. Nous expliquerons lâ€™appo
 rt de la physique quantique et des neurosciences, nouvelle approche de
  lâ€™Ãªtre humain.La rencontre : exercice les yeux dans les yeux. Voir
  la beautÃ© de la crÃ©ation dans le regard de lâ€™autre.PrÃ©sentation 
 thÃ©orique et ludique des principes de base de la physique quantique. 
 Questions/rÃ©ponsesExercice d'hypnose humaniste avec accompagnement bo
 lsExercice de valorasation de la relation Ã  soi et dÃ©briefingNotions
  d'Ã©nergÃ©tique humaineExtrait du film : Angel APrise en main des bol
 s chantants individuellement puis Ã  deuxConcert de bolsRespiration du
  cÅ“ur et harmonisation des 3 cerveaux avec les bolsExtrait du film \"
 Que savons- nous vraiment de la rÃ©alitÃ© ?\" pour prÃ©senter le shoot
  Ã©motionnelInversion de perceptionVision thÃ©orique des relations de 
 couple. Le couple intÃ©rieurProtocole sur lâ€™Ã©tat intÃ©rieur liÃ© Ã 
  la relation amoureuse.Conclusion. Le lien est toujours lÃ , la relati
 on d'Amour ne peut pas se dissoudre ni avec la distance ni avec le tem
 ps!\n\nPour plus d'information, aller sur https://epanews.fr/events/ph
 ilippe-douillet
DTSTART;TZID=Europe/Paris:20170513T090000
DTEND;TZID=Europe/Paris:20170514T180000
CATEGORIES:60
LOCATION:ChÃ¢teau de Faye les ETangs
WEBSITE:
URL:
CONTACT:
ORGANIZER;CN="Orme de Marquemont":https://epanews.fr/profile/OrmedeMar
 quemont
ATTACH;FMTTYPE="image/jpeg":http://storage.ning.com/topology/rest/1.0/
 file/get/1663660010?profile=original
ATTENDEE;ROLE=REQ-PARTICIPANT;PARTSTAT=ACCEPTED;RSVP=TRUE;CN="Orme de 
 Marquemont":https://epanews.fr/profile/OrmedeMarquemont
END:VEVENT
END:VCALENDAR
