BEGIN:VCALENDAR
PRODID:NingEventWidget-v1
VERSION:2.0
METHOD:PUBLISH
BEGIN:VTIMEZONE
TZID:Europe/Paris
X-LIC-LOCATION:Europe/Paris
BEGIN:DAYLIGHT
TZOFFSETFROM:+0100
TZOFFSETTO:+0200
TZNAME:CEST
DTSTART:19700329T020000
RRULE:FREQ=YEARLY;BYMONTH=3;BYDAY=-1SU
END:DAYLIGHT
BEGIN:STANDARD
TZOFFSETFROM:+0200
TZOFFSETTO:+0100
TZNAME:CET
DTSTART:19701025T030000
RRULE:FREQ=YEARLY;BYMONTH=10;BYDAY=-1SU
END:STANDARD
END:VTIMEZONE
BEGIN:VEVENT
UID:2485226:Event:58664
DTSTAMP:20260419T211445Z
SUMMARY:Personocratia reÃ§oit Mado du QuÃ©bec
DESCRIPTION:ConfÃ©rence suivie d'un temps de questions rÃ©ponses : Ext
 raterrestre : Sauveurs ou prÃ©dateurs ?\n\n\"L'Ãªtre humain est beauco
 up plus qu'un animal intelligent et technologiquement avancÃ©. Doit-il
  rÃ©vÃ©rer, Ã©viter ou ignorer les ET ? L'Ã©vidence d'une prÃ©sence ex
 traterrestre est dÃ©sormais indÃ©niable. Pourtant, ils sont cachÃ©s su
 r la terre depuis des millÃ©naires. Leur prÃ©sence va bientÃ´t nous Ãª
 tre rÃ©vÃ©lÃ©e. On nous les prÃ©sentera comme des sauveurs ou comme de
 s prÃ©dateurs. Or, ils ne sont ni l'un, ni l'autre ! Seule notre ignor
 ance et notre inconscience de qui nous sommes pourraient nous faire ac
 cepter ce choix dualiste. Choisirons-nous de demeurer des victimes ou 
 choisirons-nous notre vraie identitÃ© crÃ©atrice ? Apprenons tout de s
 uite la personocratie*, qui nous permettra de dire : \"Non, merci!\" Â
 ».\n\nAujourdâ€™hui connue pour sa vulgarisation du phÃ©nomÃ¨ne extrat
 errestre, Mado sâ€™applique Ã  vivre la personocratie* au quotidien et
  Ã  en diffuser le message dans la sÃ©rie des Livrets de Personocratia
  quâ€™elle Ã©crit avec Ghis**. Elle combine des notions intellectuelle
 s avant-gardistes et leur mise en application concrÃ¨te. ElevÃ©e dans 
 un milieu bilingue (franÃ§ais/anglais) et enseignante de mÃ©tier, elle
  vit au QuÃ©bec et donne confÃ©rences et ateliers dans plusieurs pays.
 \n\n* Personocratie / personocratia : littÃ©ralement Â« la personne qu
 i gouverne Â» ou Â« la personne souveraine Â». La personne qui a consc
 ience de son pouvoir intÃ©rieur et qui le manifeste dans sa vie quotid
 ienne.\n\n** Ghis : autrefois mÃ©decin connue sous le nom de Ghislaine
  LanctÃ´t, auteure du best-seller Â« La Mafia mÃ©dicale Â» et de Â« Qu
 e diable suis-je venue faire sur cette terre ? â€“ Mâ€™accomplir ! Â».
 \n\nSite internet : http://www.personocratia.com/\n\nJe suis heureuse 
 d'accueillir Mado que j'ai eu l'occasion de rencontrer au QuÃ©bec et r
 avie aussi de pouvoir partager avec vous tous cette opportunitÃ© de re
 ncontre !\n\nPour plus d'information, aller sur https://epanews.fr/eve
 nts/personocratia-recoit-mado-du
DTSTART;TZID=Europe/Paris:20100523T143000
DTEND;TZID=Europe/Paris:20100523T190000
CATEGORIES:tous
LOCATION:Saint-Jean du Bruel
WEBSITE:http://www.ot-larzac-vallees.fr/
URL:http://www.ot-larzac-vallees.fr/
CONTACT:05.65.62.48.18
ORGANIZER;CN=Amaryllis:https://epanews.fr/profile/Amaryllis
ATTACH;FMTTYPE="image/jpeg":http://storage.ning.com/topology/rest/1.0/
 file/get/1662301587?profile=original
ATTENDEE;ROLE=REQ-PARTICIPANT;PARTSTAT=ACCEPTED;RSVP=TRUE;CN=Amaryllis
 :https://epanews.fr/profile/Amaryllis
END:VEVENT
END:VCALENDAR
