BEGIN:VCALENDAR
PRODID:NingEventWidget-v1
VERSION:2.0
METHOD:PUBLISH
BEGIN:VTIMEZONE
TZID:Europe/Paris
X-LIC-LOCATION:Europe/Paris
BEGIN:DAYLIGHT
TZOFFSETFROM:+0100
TZOFFSETTO:+0200
TZNAME:CEST
DTSTART:19700329T020000
RRULE:FREQ=YEARLY;BYMONTH=3;BYDAY=-1SU
END:DAYLIGHT
BEGIN:STANDARD
TZOFFSETFROM:+0200
TZOFFSETTO:+0100
TZNAME:CET
DTSTART:19701025T030000
RRULE:FREQ=YEARLY;BYMONTH=10;BYDAY=-1SU
END:STANDARD
END:VTIMEZONE
BEGIN:VEVENT
UID:2485226:Event:1649931
DTSTAMP:20260424T002607Z
SUMMARY:Atelier 3heures
DESCRIPTION:Bonjour, je propose un atelier sur le sujet de La Famille 
 , un mois avant Noël !\nUn sujet qui ne laisse pas indifférent , je 
 propose de découvrir la vision de Personocratia et d'agir selon sa co
 nscience du moment avec respect de soi-même ... en discernant  ce qu
 i me mène : las autres, les conventions , la culture familiale, l'att
 achement et choisir si  je participe ou pas à Noël ?\n\nPour plus d
 'information, aller sur https://epanews.fr/events/personocratia-et-la-
 famille
DTSTART;TZID=Europe/Paris:20131124T093000
DTEND;TZID=Europe/Paris:20131124T173000
CATEGORIES:35
LOCATION:Rennes
WEBSITE:
URL:
CONTACT:O6 08 97 80 87
ORGANIZER;CN=anyvone:https://epanews.fr/profile/dezell
ATTACH;FMTTYPE="image/jpeg":
ATTENDEE;ROLE=REQ-PARTICIPANT;PARTSTAT=ACCEPTED;RSVP=TRUE;CN=anyvone:h
 ttps://epanews.fr/profile/dezell
END:VEVENT
END:VCALENDAR
