BEGIN:VCALENDAR
PRODID:NingEventWidget-v1
VERSION:2.0
METHOD:PUBLISH
BEGIN:VTIMEZONE
TZID:Europe/Paris
X-LIC-LOCATION:Europe/Paris
BEGIN:DAYLIGHT
TZOFFSETFROM:+0100
TZOFFSETTO:+0200
TZNAME:CEST
DTSTART:19700329T020000
RRULE:FREQ=YEARLY;BYMONTH=3;BYDAY=-1SU
END:DAYLIGHT
BEGIN:STANDARD
TZOFFSETFROM:+0200
TZOFFSETTO:+0100
TZNAME:CET
DTSTART:19701025T030000
RRULE:FREQ=YEARLY;BYMONTH=10;BYDAY=-1SU
END:STANDARD
END:VTIMEZONE
BEGIN:VEVENT
UID:2485226:Event:1436146
DTSTAMP:20260423T162316Z
SUMMARY:Peinture intuitive & Modelage intuitif
DESCRIPTION:Stage résidentiel de peinture avec Marianne Tatar  & Moh
 amed Grine\nmariannetatar.daportfolio.com\narts.grine.free.fr\nPréins
 cription : domaine.leribas@gmail.com\n \n\n Marianne Tatar\nLuxembou
 rgeoise d’origine, je vis actuellement en France.Autodidacte, passio
 nnée de création, je peins depuis plus de trente ans… Mon hypersen
 sibilité me poussa un jour à créer de manière totalement intuitive
 …Nombreuses sont ses oeuvres nées d’un choc émotionnel…La Musi
 que est un guide magique qui m’inspire des images provenant d’autr
 es mondes,souvent peuplés d’Anges et de paysages fantastiques.Ce so
 nt des voyages passionnés et sensuels qui emportent l’Ame, aux sour
 ces mêmes de la créativité…\n\n \n\n\n\n\nMohamed GRINE,\nartis
 te alsacien haut-rhinois a découvert, par hasard en 1993, son don de 
 plier les matières exigeantes comme le bois, la pierre, le marbre, le
  bronze ou le grès pour en extraire un Art qui tient à la fois de l
 ’onirique, du mythologique et du hiératique.\nL’artiste puise dan
 s des traditions païennes et mythologiques comme la statue de Gaïa q
 ui a donné naissance à l’Univers. Sa vision de la femme matrice de
  l’univers imprègne sa créativité. Dans la sculpture Ouroboros, p
 ar exemple, il reprend le thème du serpent qui se mord la queue ou le
  mythe de l’éternel retour du même d’où le recours à la figure
  du cercle. La puissance suggestive de ses sculptures nous interroge s
 ur le devenir des êtres et des choses dans une nature en perpétuel m
 ouvement à travers le temps.\n- Une cagnotte  pour les repas pris en
  commun pourra être prévue ( estimation: 25€/pers./jour), variable
  suivant le groupe.\n \n\n\nPour plus d'information, aller sur https:
 //epanews.fr/events/peinture-intuitive-modelage-intuitif
DTSTART;TZID=Europe/Paris:20130903T140000
DTEND;TZID=Europe/Paris:20130907T070000
CATEGORIES:30
LOCATION:près d'Anduze ( Alès)
WEBSITE:http://www.domaineleribas.org
URL:http://www.domaineleribas.org
CONTACT:
ORGANIZER;CN="Le Domaine du Ribas":https://epanews.fr/profile/LeRibas
ATTACH;FMTTYPE="image/jpeg":
ATTENDEE;ROLE=REQ-PARTICIPANT;PARTSTAT=ACCEPTED;RSVP=TRUE;CN="Le Domai
 ne du Ribas":https://epanews.fr/profile/LeRibas
ATTENDEE;ROLE=REQ-PARTICIPANT;PARTSTAT=TENTATIVE;RSVP=TRUE;CN=ktrine:h
 ttps://epanews.fr/profile/ktrine
END:VEVENT
END:VCALENDAR
