BEGIN:VCALENDAR
PRODID:NingEventWidget-v1
VERSION:2.0
METHOD:PUBLISH
BEGIN:VTIMEZONE
TZID:Europe/Paris
X-LIC-LOCATION:Europe/Paris
BEGIN:DAYLIGHT
TZOFFSETFROM:+0100
TZOFFSETTO:+0200
TZNAME:CEST
DTSTART:19700329T020000
RRULE:FREQ=YEARLY;BYMONTH=3;BYDAY=-1SU
END:DAYLIGHT
BEGIN:STANDARD
TZOFFSETFROM:+0200
TZOFFSETTO:+0100
TZNAME:CET
DTSTART:19701025T030000
RRULE:FREQ=YEARLY;BYMONTH=10;BYDAY=-1SU
END:STANDARD
END:VTIMEZONE
BEGIN:VEVENT
UID:2485226:Event:2991806
DTSTAMP:20260425T033654Z
SUMMARY:Patricia
DESCRIPTION:Il est encore possible de rejoindre Objectif Projet en par
 ticipant Ã  la deuxiÃ¨me journÃ©e de notre stage qui se dÃ©roule une j
 ournÃ©e par mois pendant six mois.\nEt si vous tentiez l'aventure ?\nO
 bjectif Projet vous permettra de trouver et d'Ã©laborer le projet qui 
 vous correspond le mieux.\nL'occasion de trouver plus de sens dans sa 
 vie et d'aller plus loin dans son Ã©panouissement personnel.\nChaque m
 oment facilite les prises de conscience favorables Ã  la rÃ©alisation 
 de soi et permet de trouver son axe et d'Ãªtre plus alignÃ© avec son Ã
 ªtre profond.\nC'est aussi un espace oÃ¹ la qualitÃ© de l'Ã©coute entr
 e participants et la richesse des Ã©changes vous permettront de touche
 r les choses vraiment importantes pour vous-mÃªme ; surtout avec la co
 nfiance et les liens qui se crÃ©ent au fil des mois, du fait de retrou
 ver toujours les mÃªmes participants d'une sÃ©ance Ã  l'autre.\nTout c
 eci grÃ¢ce Ã  notre accompagnement et des exercices simples et puissan
 ts, abordant les thÃ¨mes prÃ©cieux comme :\nLa dÃ©couverte de soi, de 
 ce qui nous motive, nos aspirations, les valeurs importantes pour nous
 , nos prÃ©fÃ©rences, mais aussi, ce qui nous freine et nous empÃªche e
 t comment nous pouvons dÃ©jouer ces piÃ¨ges.\nChaque journÃ©e sera l'o
 ccasion d'un bilan des actions dÃ©jÃ  menÃ©es et des changements, ce q
 ui favorise l'ancrage et la connexion avec ses capacitÃ©s et ressource
 s.\nIl y aura toujours aussi de nouvelles expÃ©riences Ã  faire et cel
 a est trÃ¨s puissant pour gÃ©nÃ©rer des changements importants, et all
 er dans le sens d'une nouvelle rÃ©alisation.\nAu fil des journÃ©es, vo
 us affinerez de plus en plus et irez de plus en plus loin vers ce qui 
 vous correspond vraiment.\nVoilÃ  ce qu'Objectif Projet pourrait vous 
 apporter si vous tentiez l'aventure.\nAu plaisir de vous accueillir Ã 
  notre stage qui a dÃ©jÃ  dÃ©marrÃ© le 27 octobre, pour 6 mois consÃ©c
 utifs les samedis 24 nov., 15 dÃ©c. suivis des dimanches 20 janv., 10 
 fÃ©v., 17 mars et 28 avril\n80 â‚¬ par journÃ©e soit 480 â‚¬ l'ensembl
 e - La journÃ©e 1 pourra Ãªtre rattrapÃ©e sans frais supplÃ©mentaires 
 - aprÃ¨s la J2 le groupe sera constituÃ© et on demande un engagement p
 our la totalitÃ© du stage.\nN'hÃ©sitez pas Ã  me tenir au courant.\nSi
  vous souhaitez en savoir plus n'hÃ©sitez pas aussi Ã  me contacter\nP
 atricia au 06 81 20 71 85\n\nPour plus d'information, aller sur https:
 //epanews.fr/events/patricia-2
DTSTART;TZID=Europe/Paris:20181124T100000
DTEND;TZID=Europe/Paris:20181124T173000
CATEGORIES:69
LOCATION:L'Atelier -
WEBSITE:
URL:
CONTACT:06 81 20 71 85
ORGANIZER;CN=Patricia:https://epanews.fr/profile/Patricia505
ATTACH;FMTTYPE="image/jpeg":http://storage.ning.com/topology/rest/1.0/
 file/get/1663764712?profile=original
ATTENDEE;ROLE=REQ-PARTICIPANT;PARTSTAT=ACCEPTED;RSVP=TRUE;CN=Patricia:
 https://epanews.fr/profile/Patricia505
END:VEVENT
END:VCALENDAR
