BEGIN:VCALENDAR
PRODID:NingEventWidget-v1
VERSION:2.0
METHOD:PUBLISH
BEGIN:VTIMEZONE
TZID:Europe/Paris
X-LIC-LOCATION:Europe/Paris
BEGIN:DAYLIGHT
TZOFFSETFROM:+0100
TZOFFSETTO:+0200
TZNAME:CEST
DTSTART:19700329T020000
RRULE:FREQ=YEARLY;BYMONTH=3;BYDAY=-1SU
END:DAYLIGHT
BEGIN:STANDARD
TZOFFSETFROM:+0200
TZOFFSETTO:+0100
TZNAME:CET
DTSTART:19701025T030000
RRULE:FREQ=YEARLY;BYMONTH=10;BYDAY=-1SU
END:STANDARD
END:VTIMEZONE
BEGIN:VEVENT
UID:2485226:Event:143346
DTSTAMP:20260420T201134Z
SUMMARY:Partie de Jeu du TAO/ NÃ®mes
DESCRIPTION:Un parcours flÃ©chÃ© Ã  travers 4 mondes :\n- le monde de 
 la Terre :Que cherches-tu ?\n- le monde de lâ€™Eau : Quelles sont tes 
 armes ?\n- le monde du feu :Quelles sont tes peurs ?\n- le monde de lâ
 €™Air :quel est ton engagement ?\nOn joue entre 4 Ã  6 personnes, au c
 ours de la partie chaque joueur ayant annoncÃ© une quÃªte de connaissa
 nce de soi, quÃªte amoureuse, professionnelle, artistique, spirituelle
 â€¦ qui lui tient Ã  cÅ“ur doit clarifier son dÃ©sir, lâ€™ajuster Ã  s
 es moyens, affronter les obstacles qui le bloquent, sâ€™engager concrÃ
 ¨tement de multiples faÃ§on, en rÃ©pondant aux questions du jeu et en 
 consultant les cartes oracles.\nLe challenge coopÃ©ratif est dâ€™aider
  lâ€™autre a y voir plus clair , une sorte de solidaritÃ© humaine se m
 et en place naturellement. Le fait dâ€™Ãªtre aidÃ© par autrui Ã  clari
 fier votre dÃ©sir vous amÃ¨ne Ã  avancer vers son accomplissement.\nCâ
 €™est un mÃ©canisme humain positif : quand lâ€™autre vous dÃ©voile lâ€
 ™une de ses vraies raisons de vivre tout vous incite Ã  lâ€™aider.\nEn
  jouant Ã  ce jeu on rÃ©alise que lâ€™accomplissement de nos souhaits 
 ne passent pas par la lutte contre les autres mais par une sÃ©rie dâ€™
 engagements avec eux.\n\n25â‚¬ ou openmoney\n\nPour plus d'information
 , aller sur https://epanews.fr/events/partie-de-jeu-du-tao-nimes
DTSTART;TZID=Europe/Paris:20101119T190000
DTEND;TZID=Europe/Paris:20101119T230000
CATEGORIES:30
LOCATION:NÃ®mes salle sÃ©guier
WEBSITE:http://http//2Bao30.blogspot.com
URL:http://http//2Bao30.blogspot.com
CONTACT:06 29 55 04 08
ORGANIZER:De Bouche Ã  Oreilles
ATTACH;FMTTYPE="image/jpeg":http://storage.ning.com/topology/rest/1.0/
 file/get/1662355141?profile=original
ATTENDEE;ROLE=REQ-PARTICIPANT;PARTSTAT=ACCEPTED;RSVP=TRUE;CN="Marie-Pi
 erre Carlier":https://epanews.fr/profile/CARLIER
END:VEVENT
END:VCALENDAR
