BEGIN:VCALENDAR
PRODID:NingEventWidget-v1
VERSION:2.0
METHOD:PUBLISH
BEGIN:VTIMEZONE
TZID:Europe/Paris
X-LIC-LOCATION:Europe/Paris
BEGIN:DAYLIGHT
TZOFFSETFROM:+0100
TZOFFSETTO:+0200
TZNAME:CEST
DTSTART:19700329T020000
RRULE:FREQ=YEARLY;BYMONTH=3;BYDAY=-1SU
END:DAYLIGHT
BEGIN:STANDARD
TZOFFSETFROM:+0200
TZOFFSETTO:+0100
TZNAME:CET
DTSTART:19701025T030000
RRULE:FREQ=YEARLY;BYMONTH=10;BYDAY=-1SU
END:STANDARD
END:VTIMEZONE
BEGIN:VEVENT
UID:2485226:Event:55145
DTSTAMP:20260420T041525Z
SUMMARY:Partie de Jeu du Tao Ã  NÃ®mes
DESCRIPTION:1 PARTIE DE JEU DU TAO (Voir en dessous la date la date de
  prÃ©sentation pour ceux qui souhaitent prÃ©alablement dÃ©couvrir le j
 eu).\nUn parcours flÃ©chÃ© Ã  travers 4 mondes :\n- le monde de la Ter
 re : Que cherches-tu ?\n- le monde de lâ€™Eau : Quelles sont tes armes
  ?\n- le monde du feu : Quelles sont tes peurs ?\n- le monde de lâ€™Ai
 r : Quel est ton engagement ?\n\nOn y joue entre 4 Ã  6 personnes, au 
 cours de la partie chaque joueur ayant annoncÃ© une quÃªte de connaiss
 ance de soi, quÃªte amoureuse, professionnelle, artistique, spirituell
 eâ€¦ qui lui tient Ã  cÅ“ur doit clarifier son dÃ©sir, lâ€™ajuster Ã  
 ses moyens, affronter les obstacles qui le bloquent, sâ€™engager concr
 Ã¨tement de multiples faÃ§on, en rÃ©pondant aux questions du jeu et en
  consultant les cartes oracles.\nLe challenge coopÃ©ratif est dâ€™aide
 r lâ€™autre a y voir plus clair , une sorte de solidaritÃ© humaine se 
 met en place naturellement. Le fait dâ€™Ãªtre aidÃ© par autrui Ã  clar
 ifier votre dÃ©sir vous amÃ¨ne Ã  avancer vers son accomplissement.\nC
 â€™est un mÃ©canisme humain positif : quand lâ€™autre vous dÃ©voile lâ
 €™une de ses vraies raisons de vivre tout vous incite Ã  lâ€™aider.\nE
 n jouant Ã  ce jeu on rÃ©alise que lâ€™accomplissement de nos souhaits
  ne passent pas par la lutte contre les autres mais par une sÃ©rie dâ€
 ™engagements avec eux.\nTout ce que vous voulez savoir sans jamais avo
 ir osÃ© le demander sur le jeu du Tao se trouve lÃ  : Bricabrac - Jeu 
 du Tao\nAvec un animateur Tao 25 â‚¬ ou en openmoney\n2 PRESENTATION D
 U JEU DU TAO Mardi 4 mai Ã  19h30 - 22 h prÃ©sentation du jeu du Tao p
 af 5 â‚¬\n\nPour plus d'information, aller sur https://epanews.fr/even
 ts/partie-de-jeu-du-tao-a-nimes
DTSTART;TZID=Europe/Paris:20100512T193000
DTEND;TZID=Europe/Paris:20100512T230000
CATEGORIES:13, 30, 34, 84
LOCATION:Galerie associative \"chez moi, chez toi\"
WEBSITE:http://2Bao30.blogspot.com
URL:http://2Bao30.blogspot.com
CONTACT:06 29 55 04 08
ORGANIZER:Association Â« de Bouche Ã  Oreilles Â»
ATTACH;FMTTYPE="image/jpeg":http://storage.ning.com/topology/rest/1.0/
 file/get/1662298908?profile=original
ATTENDEE;ROLE=REQ-PARTICIPANT;PARTSTAT=ACCEPTED;RSVP=TRUE;CN="Marie-Pi
 erre Carlier":https://epanews.fr/profile/CARLIER
ATTENDEE;ROLE=REQ-PARTICIPANT;PARTSTAT=ACCEPTED;RSVP=TRUE;CN="alain ll
 oria":https://epanews.fr/profile/alainlloria
END:VEVENT
END:VCALENDAR
