BEGIN:VCALENDAR
PRODID:NingEventWidget-v1
VERSION:2.0
METHOD:PUBLISH
BEGIN:VTIMEZONE
TZID:Europe/Paris
X-LIC-LOCATION:Europe/Paris
BEGIN:DAYLIGHT
TZOFFSETFROM:+0100
TZOFFSETTO:+0200
TZNAME:CEST
DTSTART:19700329T020000
RRULE:FREQ=YEARLY;BYMONTH=3;BYDAY=-1SU
END:DAYLIGHT
BEGIN:STANDARD
TZOFFSETFROM:+0200
TZOFFSETTO:+0100
TZNAME:CET
DTSTART:19701025T030000
RRULE:FREQ=YEARLY;BYMONTH=10;BYDAY=-1SU
END:STANDARD
END:VTIMEZONE
BEGIN:VEVENT
UID:2485226:Event:653508
DTSTAMP:20260424T202610Z
SUMMARY:Participez à un Jeu de la transformation
DESCRIPTION:Bonjour!\nJ'organise un jeu de la transformation à Genèv
 e, Samedi 21 janvier 2012.\nC'est un jeu de développement personnel e
 t spirituel qui vous accompagne dans votre chemin de vie, en vous aida
 nt à clarifier vos objectifs, à vous libérer des obstacles et à tr
 ouver des solutions créatives.\nPrix: 180.-\n\nCatherine Chatelain\nA
 nimatrice certifiée Innerlinks\n\nPour plus d'information, aller sur 
 https://epanews.fr/events/participez-un-jeu-de-la-transformation
DTSTART;TZID=Europe/Paris:20120121T090000
DTEND;TZID=Europe/Paris:20120121T190000
CATEGORIES:genève, suisse
LOCATION:Genève
WEBSITE:
URL:
CONTACT:0033 450 94 50 41 ou 0041 79 648 68 47
ORGANIZER;CN="Catherine Chatelain":https://epanews.fr/profile/Catherin
 eChatelain
ATTACH;FMTTYPE="image/jpeg":http://storage.ning.com/topology/rest/1.0/
 file/get/1662538063?profile=original
ATTENDEE;ROLE=REQ-PARTICIPANT;PARTSTAT=ACCEPTED;RSVP=TRUE;CN="Catherin
 e Chatelain":https://epanews.fr/profile/CatherineChatelain
END:VEVENT
END:VCALENDAR
