BEGIN:VCALENDAR
PRODID:NingEventWidget-v1
VERSION:2.0
METHOD:PUBLISH
BEGIN:VTIMEZONE
TZID:Europe/Paris
X-LIC-LOCATION:Europe/Paris
BEGIN:DAYLIGHT
TZOFFSETFROM:+0100
TZOFFSETTO:+0200
TZNAME:CEST
DTSTART:19700329T020000
RRULE:FREQ=YEARLY;BYMONTH=3;BYDAY=-1SU
END:DAYLIGHT
BEGIN:STANDARD
TZOFFSETFROM:+0200
TZOFFSETTO:+0100
TZNAME:CET
DTSTART:19701025T030000
RRULE:FREQ=YEARLY;BYMONTH=10;BYDAY=-1SU
END:STANDARD
END:VTIMEZONE
BEGIN:VEVENT
UID:2485226:Event:961020
DTSTAMP:20260421T135753Z
SUMMARY:Partageons notre bien-être !
DESCRIPTION:ReTrouvons-nous n°07\n \nAvez-vous envie de vous retrouv
 er avec des personnes cherchant comme vous le bonheur, le bien-être ?
  Partageons un pique-nique au cœur de Montpellier !\n…Et, pourquoi 
 pas, proposez-y un court atelier spontané : lectures, techniques de m
 ieux-être, instant poétique ou musical...\nOu venez juste aussi pour
  profiter !\n \nCette animation fait partie d'un cycle 3 après-midi 
 annuels de partages au coeur de Montpellier, rives du Lez.\n \nPratiq
 ue\n.Montpellier Rives-du-Lez  .Gratuit\n.Accès\nNous bougeons légè
 rement du lieu habituel pour plus de tranquillité : rendez-vous sur l
 'herbe, près du pont Jean Zuccarelli, face à la station de tram Moul
 arès, mais de l'autre côté du Lez. Repli en salle en cas de fortes 
 intempéries : appeler (Franck au 06.32.08.51.58).\n \nPlus d’infor
 mations sur : http://www.happyplanetdays.com/evenement-151.html\n\nPo
 ur plus d'information, aller sur https://epanews.fr/events/partageons-
 notre-bien-tre
DTSTART;TZID=Europe/Paris:20121007T113000
DTEND;TZID=Europe/Paris:20121007T150000
CATEGORIES:34
LOCATION:Montpellier - sur les rives du Lez
WEBSITE:http://www.happyplanetdays.com/evenement-151.html
URL:http://www.happyplanetdays.com/evenement-151.html
CONTACT:06.32.08.51.58
ORGANIZER:Association HappyPlanete
ATTACH;FMTTYPE="image/jpeg":http://storage.ning.com/topology/rest/1.0/
 file/get/1662674020?profile=original
ATTENDEE;ROLE=REQ-PARTICIPANT;PARTSTAT=ACCEPTED;RSVP=TRUE;CN="Sophie v
 db":https://epanews.fr/profile/Sophievdb
ATTENDEE;ROLE=REQ-PARTICIPANT;PARTSTAT=TENTATIVE;RSVP=TRUE;CN=Aminata3
 4:https://epanews.fr/profile/Aminata34
END:VEVENT
END:VCALENDAR
