BEGIN:VCALENDAR
PRODID:NingEventWidget-v1
VERSION:2.0
METHOD:PUBLISH
BEGIN:VTIMEZONE
TZID:Europe/Paris
X-LIC-LOCATION:Europe/Paris
BEGIN:DAYLIGHT
TZOFFSETFROM:+0100
TZOFFSETTO:+0200
TZNAME:CEST
DTSTART:19700329T020000
RRULE:FREQ=YEARLY;BYMONTH=3;BYDAY=-1SU
END:DAYLIGHT
BEGIN:STANDARD
TZOFFSETFROM:+0200
TZOFFSETTO:+0100
TZNAME:CET
DTSTART:19701025T030000
RRULE:FREQ=YEARLY;BYMONTH=10;BYDAY=-1SU
END:STANDARD
END:VTIMEZONE
BEGIN:VEVENT
UID:2485226:Event:158353
DTSTAMP:20260423T061213Z
SUMMARY:Partage Reiki
DESCRIPTION:L'association SacrÃ© Toi invite toute personne formÃ©e au 
 Reiki, quelque soit son Ã©cole ou son niveau Ã  une aprÃ¨s midi d'Ã©ch
 ange ...parce que Ã§a fait du bien tout simplement!\n\nPour plus d'inf
 ormation, aller sur https://epanews.fr/events/partage-reiki
DTSTART;TZID=Europe/Paris:20101218T150000
DTEND;TZID=Europe/Paris:20101218T180000
CATEGORIES:30
LOCATION:La Minescence
WEBSITE:
URL:
CONTACT:0430386578
ORGANIZER;CN="Marie-HÃ©lÃ¨ne JOUDIOU":https://epanews.fr/profile/Assoc
 iationSacreToi
ATTACH;FMTTYPE="image/jpeg":http://storage.ning.com/topology/rest/1.0/
 file/get/1662364737?profile=original
ATTENDEE;ROLE=REQ-PARTICIPANT;PARTSTAT=ACCEPTED;RSVP=TRUE;CN="Marie-HÃ
 ©lÃ¨ne JOUDIOU":https://epanews.fr/profile/AssociationSacreToi
END:VEVENT
END:VCALENDAR
