BEGIN:VCALENDAR
PRODID:NingEventWidget-v1
VERSION:2.0
METHOD:PUBLISH
BEGIN:VTIMEZONE
TZID:Europe/Paris
X-LIC-LOCATION:Europe/Paris
BEGIN:DAYLIGHT
TZOFFSETFROM:+0100
TZOFFSETTO:+0200
TZNAME:CEST
DTSTART:19700329T020000
RRULE:FREQ=YEARLY;BYMONTH=3;BYDAY=-1SU
END:DAYLIGHT
BEGIN:STANDARD
TZOFFSETFROM:+0200
TZOFFSETTO:+0100
TZNAME:CET
DTSTART:19701025T030000
RRULE:FREQ=YEARLY;BYMONTH=10;BYDAY=-1SU
END:STANDARD
END:VTIMEZONE
BEGIN:VEVENT
UID:2485226:Event:1011390
DTSTAMP:20260420T015455Z
SUMMARY:Partage Reiki
DESCRIPTION:Regroupement de praticiens Reiki pour séance Shu Shu Reik
 i. Donner et recevoir du Reiki, chaque lundi, à partir du lundi 11 no
 vembre. Sur Montpellier ou sur Gignac. \nMerci de me contacter.\n\nPo
 ur plus d'information, aller sur https://epanews.fr/events/partage-rei
 ki-2
DTSTART;TZID=Europe/Paris:20121111T140000
DTEND;TZID=Europe/Paris:20121111T180000
CATEGORIES:34
LOCATION:Gignac ou Montpellier
WEBSITE:http://www.reiki-cristal.com/
URL:http://www.reiki-cristal.com/
CONTACT:
ORGANIZER;CN=ReikiGirl:https://epanews.fr/profile/ReikiGirl230
ATTACH;FMTTYPE="image/jpeg":http://storage.ning.com/topology/rest/1.0/
 file/get/1662690980?profile=original
ATTENDEE;ROLE=REQ-PARTICIPANT;PARTSTAT=ACCEPTED;RSVP=TRUE;CN=ReikiGirl
 :https://epanews.fr/profile/ReikiGirl230
END:VEVENT
END:VCALENDAR
